
BEGIN:VCALENDAR
VERSION:2.0
PRODID:-//Clasijazz - ECPv6.11.0.1//NONSGML v1.0//EN
CALSCALE:GREGORIAN
METHOD:PUBLISH
X-WR-CALNAME:Clasijazz
X-ORIGINAL-URL:https://clasijazz.com
X-WR-CALDESC:Eventos para Clasijazz
REFRESH-INTERVAL;VALUE=DURATION:PT1H
X-Robots-Tag:noindex
X-PUBLISHED-TTL:PT1H
BEGIN:VTIMEZONE
TZID:Europe/Madrid
BEGIN:DAYLIGHT
TZOFFSETFROM:+0100
TZOFFSETTO:+0200
TZNAME:CEST
DTSTART:20260329T010000
END:DAYLIGHT
BEGIN:STANDARD
TZOFFSETFROM:+0200
TZOFFSETTO:+0100
TZNAME:CET
DTSTART:20261025T010000
END:STANDARD
END:VTIMEZONE
BEGIN:VEVENT
DTSTART;TZID=Europe/Madrid:20260424T180000
DTEND;TZID=Europe/Madrid:20260424T190000
DTSTAMP:20260424T193613
CREATED:20260114T173102Z
LAST-MODIFIED:20260305T211945Z
UID:5761748-1777053600-1777057200@clasijazz.com
SUMMARY:Mini Jam
DESCRIPTION:Entrada Libre | Sala Industrial \n\nQue importantes son las Mini Jams en Clasijazz. Generaciones se han criado con música y cantando desde chicos . Aquí tenéis todas las de este curso . Son gratuitas pero si quieres hacerte socio nos ayudarás a seguir con la ilusión por predicar la música para todas las edades.
URL:https://clasijazz.com/evento/mini-jam/2026-04-24/
LOCATION:Sede Clasijazz\, Maestro Serrano 9 \, Almería\, Almería\, 04004\, España
CATEGORIES:Programación
ATTACH;FMTTYPE=image/jpeg:https://clasijazz.com/wp-content/uploads/2026/01/PANA3644-scaled.jpg
GEO:36.83433;-2.4614249
X-APPLE-STRUCTURED-LOCATION;VALUE=URI;X-ADDRESS=Sede Clasijazz Maestro Serrano 9  Almería Almería 04004 España;X-APPLE-RADIUS=500;X-TITLE=Maestro Serrano 9:geo:-2.4614249,36.83433
END:VEVENT
BEGIN:VEVENT
DTSTART;TZID=Europe/Madrid:20260410T180000
DTEND;TZID=Europe/Madrid:20260410T190000
DTSTAMP:20260424T193613
CREATED:20260114T173102Z
LAST-MODIFIED:20260305T211944Z
UID:5761747-1775844000-1775847600@clasijazz.com
SUMMARY:Mini Jam
DESCRIPTION:Entrada Libre | Sala Industrial \n\nQue importantes son las Mini Jams en Clasijazz. Generaciones se han criado con música y cantando desde chicos . Aquí tenéis todas las de este curso . Son gratuitas pero si quieres hacerte socio nos ayudarás a seguir con la ilusión por predicar la música para todas las edades.
URL:https://clasijazz.com/evento/mini-jam/2026-04-10/
LOCATION:Sede Clasijazz\, Maestro Serrano 9 \, Almería\, Almería\, 04004\, España
CATEGORIES:Programación
ATTACH;FMTTYPE=image/jpeg:https://clasijazz.com/wp-content/uploads/2026/01/PANA3644-scaled.jpg
GEO:36.83433;-2.4614249
X-APPLE-STRUCTURED-LOCATION;VALUE=URI;X-ADDRESS=Sede Clasijazz Maestro Serrano 9  Almería Almería 04004 España;X-APPLE-RADIUS=500;X-TITLE=Maestro Serrano 9:geo:-2.4614249,36.83433
END:VEVENT
BEGIN:VEVENT
DTSTART;TZID=Europe/Madrid:20260320T180000
DTEND;TZID=Europe/Madrid:20260320T190000
DTSTAMP:20260424T193613
CREATED:20260114T173102Z
LAST-MODIFIED:20260305T211942Z
UID:5761746-1774029600-1774033200@clasijazz.com
SUMMARY:Mini Jam
DESCRIPTION:Entrada Libre | Sala Industrial \n\nQue importantes son las Mini Jams en Clasijazz. Generaciones se han criado con música y cantando desde chicos . Aquí tenéis todas las de este curso . Son gratuitas pero si quieres hacerte socio nos ayudarás a seguir con la ilusión por predicar la música para todas las edades.
URL:https://clasijazz.com/evento/mini-jam/2026-03-20/
LOCATION:Sede Clasijazz\, Maestro Serrano 9 \, Almería\, Almería\, 04004\, España
CATEGORIES:Programación
ATTACH;FMTTYPE=image/jpeg:https://clasijazz.com/wp-content/uploads/2026/01/PANA3644-scaled.jpg
GEO:36.83433;-2.4614249
X-APPLE-STRUCTURED-LOCATION;VALUE=URI;X-ADDRESS=Sede Clasijazz Maestro Serrano 9  Almería Almería 04004 España;X-APPLE-RADIUS=500;X-TITLE=Maestro Serrano 9:geo:-2.4614249,36.83433
END:VEVENT
BEGIN:VEVENT
DTSTART;TZID=Europe/Madrid:20260220T180000
DTEND;TZID=Europe/Madrid:20260220T190000
DTSTAMP:20260424T193613
CREATED:20260114T173102Z
LAST-MODIFIED:20260305T211941Z
UID:5761744-1771610400-1771614000@clasijazz.com
SUMMARY:Mini Jam
DESCRIPTION:Entrada Libre | Sala Industrial \n\nQue importantes son las Mini Jams en Clasijazz. Generaciones se han criado con música y cantando desde chicos . Aquí tenéis todas las de este curso . Son gratuitas pero si quieres hacerte socio nos ayudarás a seguir con la ilusión por predicar la música para todas las edades.
URL:https://clasijazz.com/evento/mini-jam/2026-02-20/
LOCATION:Sede Clasijazz\, Maestro Serrano 9 \, Almería\, Almería\, 04004\, España
CATEGORIES:Programación
ATTACH;FMTTYPE=image/jpeg:https://clasijazz.com/wp-content/uploads/2026/01/PANA3644-scaled.jpg
GEO:36.83433;-2.4614249
X-APPLE-STRUCTURED-LOCATION;VALUE=URI;X-ADDRESS=Sede Clasijazz Maestro Serrano 9  Almería Almería 04004 España;X-APPLE-RADIUS=500;X-TITLE=Maestro Serrano 9:geo:-2.4614249,36.83433
END:VEVENT
BEGIN:VEVENT
DTSTART;TZID=Europe/Madrid:20260206T180000
DTEND;TZID=Europe/Madrid:20260206T190000
DTSTAMP:20260424T193613
CREATED:20260114T173102Z
LAST-MODIFIED:20260305T211939Z
UID:5761743-1770400800-1770404400@clasijazz.com
SUMMARY:Mini Jam
DESCRIPTION:Entrada Libre | Sala Industrial \n\nQue importantes son las Mini Jams en Clasijazz. Generaciones se han criado con música y cantando desde chicos . Aquí tenéis todas las de este curso . Son gratuitas pero si quieres hacerte socio nos ayudarás a seguir con la ilusión por predicar la música para todas las edades.
URL:https://clasijazz.com/evento/mini-jam/2026-02-06/
LOCATION:Sede Clasijazz\, Maestro Serrano 9 \, Almería\, Almería\, 04004\, España
CATEGORIES:Programación
ATTACH;FMTTYPE=image/jpeg:https://clasijazz.com/wp-content/uploads/2026/01/PANA3644-scaled.jpg
GEO:36.83433;-2.4614249
X-APPLE-STRUCTURED-LOCATION;VALUE=URI;X-ADDRESS=Sede Clasijazz Maestro Serrano 9  Almería Almería 04004 España;X-APPLE-RADIUS=500;X-TITLE=Maestro Serrano 9:geo:-2.4614249,36.83433
END:VEVENT
BEGIN:VEVENT
DTSTART;TZID=Europe/Madrid:20260123T180000
DTEND;TZID=Europe/Madrid:20260123T190000
DTSTAMP:20260424T193613
CREATED:20260114T173102Z
LAST-MODIFIED:20260305T211938Z
UID:5761739-1769191200-1769194800@clasijazz.com
SUMMARY:Mini Jam
DESCRIPTION:Entrada Libre | Sala Industrial \n\nQue importantes son las Mini Jams en Clasijazz. Generaciones se han criado con música y cantando desde chicos . Aquí tenéis todas las de este curso . Son gratuitas pero si quieres hacerte socio nos ayudarás a seguir con la ilusión por predicar la música para todas las edades.
URL:https://clasijazz.com/evento/mini-jam/2026-01-23/
LOCATION:Sede Clasijazz\, Maestro Serrano 9 \, Almería\, Almería\, 04004\, España
CATEGORIES:Programación
ATTACH;FMTTYPE=image/jpeg:https://clasijazz.com/wp-content/uploads/2026/01/PANA3644-scaled.jpg
GEO:36.83433;-2.4614249
X-APPLE-STRUCTURED-LOCATION;VALUE=URI;X-ADDRESS=Sede Clasijazz Maestro Serrano 9  Almería Almería 04004 España;X-APPLE-RADIUS=500;X-TITLE=Maestro Serrano 9:geo:-2.4614249,36.83433
END:VEVENT
END:VCALENDAR