
BEGIN:VCALENDAR
VERSION:2.0
PRODID:-//Clasijazz - ECPv6.11.0.1//NONSGML v1.0//EN
CALSCALE:GREGORIAN
METHOD:PUBLISH
X-ORIGINAL-URL:https://clasijazz.com
X-WR-CALDESC:Eventos para Clasijazz
REFRESH-INTERVAL;VALUE=DURATION:PT1H
X-Robots-Tag:noindex
X-PUBLISHED-TTL:PT1H
BEGIN:VTIMEZONE
TZID:Europe/Madrid
BEGIN:DAYLIGHT
TZOFFSETFROM:+0100
TZOFFSETTO:+0200
TZNAME:CEST
DTSTART:20250330T010000
END:DAYLIGHT
BEGIN:STANDARD
TZOFFSETFROM:+0200
TZOFFSETTO:+0100
TZNAME:CET
DTSTART:20251026T010000
END:STANDARD
END:VTIMEZONE
BEGIN:VEVENT
DTSTART;TZID=Europe/Madrid:20251219T180000
DTEND;TZID=Europe/Madrid:20251219T193000
DTSTAMP:20260422T141257
CREATED:20251031T183720Z
LAST-MODIFIED:20251216T200349Z
UID:5760579-1766167200-1766172600@clasijazz.com
SUMMARY:Taller de Danza K-Pop
DESCRIPTION:Entrada Libre \nSala Swing \n\nES \n¡Únete de nuevo a nuestro segundo taller de baile de k-pop! Esta vez\, aprenderemos la coreografía de “Strategy” de Twice\, una canción conocida por la serie “Las guerreras K-pop / K-pop Demon Hunters”. \n¡Todos son bienvenidos\, desde niños hasta adultos! Ya seas principiante o tengas experiencia en el baile\, escuches K-Pop de vez en cuando o seas un superfan\, ¡este taller es para ti! \n¡Asegúrate de llevar ropa cómoda! \n¡Nos vemos! ☀️ \n\nENG \nJoin us again for the second k-pop dance workshop! This time\, we will be learning the choreography for Twice’s “Strategy”\, a song known to many from the series “K-pop Demon Hunters”. \nEveryone is welcome\, from children to adults. Whether you’re a beginner or an experienced dancer\, a casual listener or a K-Pop superfan\, this workshop is for you! \nMake sure to wear comfortable clothes! \nSee you! ☀️
URL:https://clasijazz.com/evento/taller-de-danza-k-pop/2025-12-19/
LOCATION:Sede Clasijazz\, Maestro Serrano 9 \, Almería\, Almería\, 04004\, España
CATEGORIES:Programación
ATTACH;FMTTYPE=image/jpeg:https://clasijazz.com/wp-content/uploads/2025/10/chris-yang-hEgEAjstS_Y-unsplash-scaled.jpg
GEO:36.83433;-2.4614249
X-APPLE-STRUCTURED-LOCATION;VALUE=URI;X-ADDRESS=Sede Clasijazz Maestro Serrano 9  Almería Almería 04004 España;X-APPLE-RADIUS=500;X-TITLE=Maestro Serrano 9:geo:-2.4614249,36.83433
END:VEVENT
BEGIN:VEVENT
DTSTART;TZID=Europe/Madrid:20251114T180000
DTEND;TZID=Europe/Madrid:20251114T193000
DTSTAMP:20260422T141257
CREATED:20251031T183720Z
LAST-MODIFIED:20251216T200349Z
UID:5759463-1763143200-1763148600@clasijazz.com
SUMMARY:Taller de Danza K-Pop
DESCRIPTION:Entrada Libre \nSala Swing \n\nES \n¡Únete de nuevo a nuestro segundo taller de baile de k-pop! Esta vez\, aprenderemos la coreografía de “Strategy” de Twice\, una canción conocida por la serie “Las guerreras K-pop / K-pop Demon Hunters”. \n¡Todos son bienvenidos\, desde niños hasta adultos! Ya seas principiante o tengas experiencia en el baile\, escuches K-Pop de vez en cuando o seas un superfan\, ¡este taller es para ti! \n¡Asegúrate de llevar ropa cómoda! \n¡Nos vemos! ☀️ \n\nENG \nJoin us again for the second k-pop dance workshop! This time\, we will be learning the choreography for Twice’s “Strategy”\, a song known to many from the series “K-pop Demon Hunters”. \nEveryone is welcome\, from children to adults. Whether you’re a beginner or an experienced dancer\, a casual listener or a K-Pop superfan\, this workshop is for you! \nMake sure to wear comfortable clothes! \nSee you! ☀️
URL:https://clasijazz.com/evento/taller-de-danza-k-pop/2025-11-14/
LOCATION:Sede Clasijazz\, Maestro Serrano 9 \, Almería\, Almería\, 04004\, España
CATEGORIES:Programación
ATTACH;FMTTYPE=image/jpeg:https://clasijazz.com/wp-content/uploads/2025/10/chris-yang-hEgEAjstS_Y-unsplash-scaled.jpg
GEO:36.83433;-2.4614249
X-APPLE-STRUCTURED-LOCATION;VALUE=URI;X-ADDRESS=Sede Clasijazz Maestro Serrano 9  Almería Almería 04004 España;X-APPLE-RADIUS=500;X-TITLE=Maestro Serrano 9:geo:-2.4614249,36.83433
END:VEVENT
END:VCALENDAR