
BEGIN:VCALENDAR
VERSION:2.0
PRODID:-//Clasijazz - ECPv6.11.0.1//NONSGML v1.0//EN
CALSCALE:GREGORIAN
METHOD:PUBLISH
X-WR-CALNAME:Clasijazz
X-ORIGINAL-URL:https://clasijazz.com
X-WR-CALDESC:Eventos para Clasijazz
REFRESH-INTERVAL;VALUE=DURATION:PT1H
X-Robots-Tag:noindex
X-PUBLISHED-TTL:PT1H
BEGIN:VTIMEZONE
TZID:Europe/Madrid
BEGIN:DAYLIGHT
TZOFFSETFROM:+0100
TZOFFSETTO:+0200
TZNAME:CEST
DTSTART:20260329T010000
END:DAYLIGHT
BEGIN:STANDARD
TZOFFSETFROM:+0200
TZOFFSETTO:+0100
TZNAME:CET
DTSTART:20261025T010000
END:STANDARD
END:VTIMEZONE
BEGIN:VEVENT
DTSTART;TZID=Europe/Madrid:20260422T200000
DTEND;TZID=Europe/Madrid:20260422T213000
DTSTAMP:20260422T115036
CREATED:20260311T174422Z
LAST-MODIFIED:20260312T151000Z
UID:5763874-1776888000-1776893400@clasijazz.com
SUMMARY:II Show Literario - Entre Libros y Risas
DESCRIPTION:Sala Principal | Entrada Libre \n¡Vuelve la magia de las letras a Almería! ✍️✨ \nTe invitamos al II Show Literario: Entre libros y risas\, una noche donde la literatura se quita la corbata para disfrutar de un ambiente único. \nTendremos de todo:\n•⁠ ⁠ Entrega de premios del segundo certamen literario.\n•⁠ ⁠ Encuentro con escritores almerienses de ayer y hoy.\n•⁠ ⁠ Stand de nuestra librería colaboradora.\n ¿Dónde? En Clasijazz (@clasijazz).\n ¿Cuándo? 22 de abril.\n Hora: 20:00 h. \nOrganizado por USTEA Enseñanza Almería. \n¡No dejes que te lo cuenten\, ven a vivirlo!  \n#CulturaAlmeria #Literatura #Clasijazz #USTEA #ShowLiterario #AlmeriaEventos
URL:https://clasijazz.com/evento/ii-show-literario-entre-libros-y-risas/
LOCATION:Sede Clasijazz\, Maestro Serrano 9 \, Almería\, Almería\, 04004\, España
CATEGORIES:Programación
ATTACH;FMTTYPE=image/jpeg:https://clasijazz.com/wp-content/uploads/2026/03/IMG-20260311-WA0006.jpg
GEO:36.83433;-2.4614249
X-APPLE-STRUCTURED-LOCATION;VALUE=URI;X-ADDRESS=Sede Clasijazz Maestro Serrano 9  Almería Almería 04004 España;X-APPLE-RADIUS=500;X-TITLE=Maestro Serrano 9:geo:-2.4614249,36.83433
END:VEVENT
BEGIN:VEVENT
DTSTART;TZID=Europe/Madrid:20260422T220000
DTEND;TZID=Europe/Madrid:20260422T233000
DTSTAMP:20260422T115036
CREATED:20250903T173754Z
LAST-MODIFIED:20260328T191155Z
UID:5757061-1776895200-1776900600@clasijazz.com
SUMMARY:Jam Session
DESCRIPTION:3 € No Soci@ / gratuito Soci@ \nSala Principal \nCada miércoles puedes disfrutar de una Jam Session. Uno de los eventos más seguidos en Almería y por el que han pasado muchísimos músicos y público. ¡Disfruta de esta maravilla de Jam Session!
URL:https://clasijazz.com/evento/jam-session-4/2026-04-22/
LOCATION:Sede Clasijazz\, Maestro Serrano 9 \, Almería\, Almería\, 04004\, España
CATEGORIES:Programación
ATTACH;FMTTYPE=image/jpeg:https://clasijazz.com/wp-content/uploads/2025/09/PANA5800-scaled.jpg
GEO:36.83433;-2.4614249
X-APPLE-STRUCTURED-LOCATION;VALUE=URI;X-ADDRESS=Sede Clasijazz Maestro Serrano 9  Almería Almería 04004 España;X-APPLE-RADIUS=500;X-TITLE=Maestro Serrano 9:geo:-2.4614249,36.83433
END:VEVENT
END:VCALENDAR