
BEGIN:VCALENDAR
VERSION:2.0
PRODID:-//Clasijazz - ECPv6.11.0.1//NONSGML v1.0//EN
CALSCALE:GREGORIAN
METHOD:PUBLISH
X-ORIGINAL-URL:https://clasijazz.com
X-WR-CALDESC:Eventos para Clasijazz
REFRESH-INTERVAL;VALUE=DURATION:PT1H
X-Robots-Tag:noindex
X-PUBLISHED-TTL:PT1H
BEGIN:VTIMEZONE
TZID:Europe/Madrid
BEGIN:DAYLIGHT
TZOFFSETFROM:+0100
TZOFFSETTO:+0200
TZNAME:CEST
DTSTART:20250330T010000
END:DAYLIGHT
BEGIN:STANDARD
TZOFFSETFROM:+0200
TZOFFSETTO:+0100
TZNAME:CET
DTSTART:20251026T010000
END:STANDARD
END:VTIMEZONE
BEGIN:VEVENT
DTSTART;TZID=Europe/Madrid:20250703T210300
DTEND;TZID=Europe/Madrid:20250703T224500
DTSTAMP:20260425T170900
CREATED:20250627T163131Z
LAST-MODIFIED:20250628T181639Z
UID:5753430-1751576580-1751582700@clasijazz.com
SUMMARY:O Sister! - Ciclo de conciertos a la puesta del sol en el Cables Inglés
DESCRIPTION:Entrada Gratuita Reserva – Aforo Limitado \nCABLE INGLÉS de Almería. \nGracias de corazón a CAJAMAR por el Patrocinio de este bello Ciclo de Conciertos en un lugar emblemático de Almería.  \nAmanece un nuevo día para O Sister! (y todo lleva a pensar que será un buen día). \nTras 15 años de trayectoria\, las sisters están felices de presentar su sexto álbum\, Brand New Day\, con la sensación de renacer. No empezar de cero\, sino reencontrarse y reconocerse en ese modo orgánico de concebir la música y su fructífera relación como grupo que les ha hecho evolucionar naturalmente. La naturalidad\, de hecho\, impregna este nuevo disco\, una (re)vuelta a las raíces que viene de sentirse cómodas con sus orígenes e influencias particulares: nunca fueron músicos puros de jazz; más bien las sisters son impuras y descastadas. De esos varios colores surge ahora un estilo libre de corsés estilísticos\, sin complejos y sin disimulo\, donde el balanceo sale solo. \nCon Brand New Day\, el sexteto radicado en Sevilla nos ofrece 12 composiciones propias de 12\, que son reflejo de un compromiso con el presente y el futuro similar al que han demostrado como colectivo. En este pleno de material original\, los textos continúan ganando peso: letras sobre temas actuales y a la vez seculares\, que hablan de lo que nos afecta\, de lo afectivo; de lo terrenal y de lo íntimo. La reconexión con lo natural incluye la naturaleza humana\, y en eso el humor sigue teniendo un papel protagonista en las canciones\, retroalimentado por el contacto directo con el público. También eso es honrar el legado del swing de hace un siglo: el comentario crítico por vía de la ironía. \nBuscando ese equilibrio entre sonidos nuevos y de raíces\, O Sister! se retiraron para la grabación a Garate Studios (Depedro\, Manta Ray\, Madredeus…)\, un caserío rodeado de luz y silencio en las faldas del monte Belkoain de Gipuzkoa. \nSu habitual productor Jordi Gil (Derby Motoreta’s Burrito Cachimba\, Rocío Márquez\, Bronquio\, Arcángel…)\, asistido por el técnico de directo de la banda Javier Mora\, contribuyó a que saliera a relucir toda su sensibilidad: la del grupo original\, formado por Paula Padilla\, Helena Amado y Marcos Padilla (voces) junto a Matías Comino (guitarras)\, Camilo Bosso (contrabajo) y Pablo Cabra (batería); y la que añade el trío de colaboradores The Horn Department que componen Julien Silvand (trompeta)\, Juli Aymí (clarinete y saxo alto) y Carlos Santana (trombón y teclados). \nLa conjunción de estos elementos ha renovado la firme creencia osisteriana en un registro estrictamente en vivo de los temas\, que permite el diálogo y que esta vez incluso les ha llevado a grabar en acústico y sin auriculares. Lo natural\, de nuevo\, era escucharse unas a otras\, tenerse como referencia. Acaso esa sea la enseñanza más valiosa de estos años. \nBrand New Day se presenta como una señal de esperanza en estos tiempos de incertidumbre y desánimo. No una utopía\, sino lo opuesto: la conciencia de tener los pies en la tierra\, y de compartirla. O Sister! transmiten con sus canciones la idea de que todo puede ser nuevo bajo el sol si se refresca la mirada. La sensación de que\, cuando el día comienza\, todo es aún posible y queda todo por hacer\, por vivir.
URL:https://clasijazz.com/evento/o-sister-cable-ingles/
LOCATION:El Cable Inglés\, Ctra. de Ronda\, 19\,\, Almería\, 04004\, Spain
CATEGORIES:Conciertos Cable Inglés,Programación
ATTACH;FMTTYPE=image/jpeg:https://clasijazz.com/wp-content/uploads/2025/06/Publi_O-Sister-scaled.jpg
END:VEVENT
END:VCALENDAR