
BEGIN:VCALENDAR
VERSION:2.0
PRODID:-//Clasijazz - ECPv6.11.0.1//NONSGML v1.0//EN
CALSCALE:GREGORIAN
METHOD:PUBLISH
X-WR-CALNAME:Clasijazz
X-ORIGINAL-URL:https://clasijazz.com
X-WR-CALDESC:Eventos para Clasijazz
REFRESH-INTERVAL;VALUE=DURATION:PT1H
X-Robots-Tag:noindex
X-PUBLISHED-TTL:PT1H
BEGIN:VTIMEZONE
TZID:Europe/Madrid
BEGIN:DAYLIGHT
TZOFFSETFROM:+0100
TZOFFSETTO:+0200
TZNAME:CEST
DTSTART:20250330T010000
END:DAYLIGHT
BEGIN:STANDARD
TZOFFSETFROM:+0200
TZOFFSETTO:+0100
TZNAME:CET
DTSTART:20251026T010000
END:STANDARD
END:VTIMEZONE
BEGIN:VEVENT
DTSTART;TZID=Europe/Madrid:20250606T190000
DTEND;TZID=Europe/Madrid:20250606T210000
DTSTAMP:20260421T193635
CREATED:20250511T171345Z
LAST-MODIFIED:20250528T133637Z
UID:5752031-1749236400-1749243600@clasijazz.com
SUMMARY:The Void Vision
DESCRIPTION:Sala Principal \nEntrada Libre \n\nAperitivo Post Evento \n3 consumiciones + aperitivos 10€ \n\nEste viernes tercera sesión de The Void Vision\, sesiones exclusivas que respiran creatividad e innovación ✨ \nEnvía contenido\, muéstralo entre personas como tú\, enseña trucos y aprende otros. Crece y comparte. \nDescubre más y reserva en la web https://thevoidvision.com
URL:https://clasijazz.com/evento/the-void-vision-4/
LOCATION:Sede Clasijazz\, Maestro Serrano 9 \, Almería\, Almería\, 04004\, España
CATEGORIES:Programación,SALON DE ACTOS
ATTACH;FMTTYPE=image/jpeg:https://clasijazz.com/wp-content/uploads/2025/05/WhatsApp-Image-2024-01-09-at-15.06.06.jpeg
GEO:36.83433;-2.4614249
X-APPLE-STRUCTURED-LOCATION;VALUE=URI;X-ADDRESS=Sede Clasijazz Maestro Serrano 9  Almería Almería 04004 España;X-APPLE-RADIUS=500;X-TITLE=Maestro Serrano 9:geo:-2.4614249,36.83433
END:VEVENT
BEGIN:VEVENT
DTSTART;TZID=Europe/Madrid:20250606T220000
DTEND;TZID=Europe/Madrid:20250606T233000
DTSTAMP:20260421T193635
CREATED:20250528T100650Z
LAST-MODIFIED:20250603T103631Z
UID:5752666-1749247200-1749252600@clasijazz.com
SUMMARY:Sesión irlandesa tradicional
DESCRIPTION:12 € NS / 5 € S \nPort of Spain \nSesión irlandesa tradicional \nSumérgete en una auténtica sesión de música tradicional irlandesa que te transportará directamente al corazón de la Isla Esmeralda. Disfruta de un ambiente cercano\, diferente\, lleno de energía\, a través de estas melodías del Atlántico. \nUna experiencia única celebra la riqueza musical irlandesa en su forma más viva y emocionante. \nRitmos para bailar\, historias que se cantan y un viaje cultural que no querrás perderte. \n¡Te esperamos para compartir esta noche mágica!\nEdit Holm – Flauta irlandesa de madera y whistles\nLuis García – Acordeón diatónico y piano\nDanny Fritz – Guitarra y violín\nManuel Rubio – Banjo tenor\, bouzouki y mandolina \nEntradas: \nSesión irlandesa tradicional
URL:https://clasijazz.com/evento/5752666/
LOCATION:Port Of Spain\, Parque Nicolás Salmeron 20\, Almería\, Almería\, 04002\, España
CATEGORIES:Programación,SALON DE ACTOS
ATTACH;FMTTYPE=image/jpeg:https://clasijazz.com/wp-content/uploads/2025/05/irish-min-scaled.jpg
END:VEVENT
BEGIN:VEVENT
DTSTART;TZID=Europe/Madrid:20250610T203000
DTEND;TZID=Europe/Madrid:20250610T213000
DTSTAMP:20260421T193635
CREATED:20250516T132242Z
LAST-MODIFIED:20250609T130638Z
UID:5752303-1749587400-1749591000@clasijazz.com
SUMMARY:Recital de fin de estudios de Canto : Laura Hernández
DESCRIPTION:entrada libre \nSala Principal \nRecital de fin de estudios: canto \nFinalizados sus estudios de Canto en el Real Conservatorio de Música de Almería “Julián Arcas”\, Laura Hernández Belmonte ofrecerá un recital de fin de curso compuesto por obras líricas muy variadas respecto a temática y época\, además de en distintos idiomas. El final de una etapa que no dejará indiferente a nadie. \nVoz: Laura Hernández Belmonte\nPiano: Pablo Mazuecos
URL:https://clasijazz.com/evento/recital-de-fin-de-estudios-de-canto-laura-hernandez/
LOCATION:Sede Clasijazz\, Maestro Serrano 9 \, Almería\, Almería\, 04004\, España
CATEGORIES:Programación,SALON DE ACTOS
ATTACH;FMTTYPE=image/jpeg:https://clasijazz.com/wp-content/uploads/2025/05/WhatsApp-Image-2025-05-06-at-19.02.35.jpeg
GEO:36.83433;-2.4614249
X-APPLE-STRUCTURED-LOCATION;VALUE=URI;X-ADDRESS=Sede Clasijazz Maestro Serrano 9  Almería Almería 04004 España;X-APPLE-RADIUS=500;X-TITLE=Maestro Serrano 9:geo:-2.4614249,36.83433
END:VEVENT
BEGIN:VEVENT
DTSTART;TZID=Europe/Madrid:20250614T203000
DTEND;TZID=Europe/Madrid:20250614T220000
DTSTAMP:20260421T193635
CREATED:20250511T172827Z
LAST-MODIFIED:20250513T112507Z
UID:5752036-1749933000-1749938400@clasijazz.com
SUMMARY:Gala Clasijazz 2025
DESCRIPTION:Auditorio Maestro Padilla (Almería)\n\nNIVEL A : 10 €\nNIVEL B: 5 €\n\nClasijazz cierra la temporada por todo lo alto \, con una gala que hará historia en Almería.\nMás de 200 artistas de todas las edades mostrarán todo el trabajo que se está realizando en Clasijazz\, una institución cultural que está siendo reconocida en todo el panorama Europeo después de venir del JazzAhead 2025 \, la mayor feria de Cultura y Jazz del Mundo. Allí ha creado sensación de todo el trabajo realizado en estos 25 años.\n\nVamos a poder ver lo mejor de Clasijazz\, y también veremos el gran nivel de motivación que tienen los alumnos de la Escuela Clasijazz y formaciones afines. Tendremos\, Música\, Baile \, Teatro … con un repertorio súper animado y con grandes sorpresas.\n\nCoro Gospel Clasijazz\nBig Bandarax\nBig Bandarax’s School\nTeen Sextet\nCoro Juvenil\nCoro Infantil\nAl Swing y al Cabo\nTeatro Clasijazz\n\nNo faltéis a este gran Evento Cultural que como os decimos hará historia en la Cultura de Almería.\nRepertorios increibles.\nEntradas:\nhttps://www.flowte.me/storefront/almeria-cultura-401
URL:https://clasijazz.com/evento/gala-clasijazz-2025/
LOCATION:Auditorio Maestro Padilla\, Pl. Alfredo Kraus\, 04007 Almería\, Almería\, Almeria\, 04007\, España
CATEGORIES:Programación,SALON DE ACTOS
ATTACH;FMTTYPE=image/jpeg:https://clasijazz.com/wp-content/uploads/2025/05/Cartel-14-Junio-Gala-Clasijazz.jpeg
GEO:36.834047;-2.4637136
X-APPLE-STRUCTURED-LOCATION;VALUE=URI;X-ADDRESS=Auditorio Maestro Padilla Pl. Alfredo Kraus 04007 Almería Almería Almeria 04007 España;X-APPLE-RADIUS=500;X-TITLE=Pl. Alfredo Kraus\, 04007 Almería:geo:-2.4637136,36.834047
END:VEVENT
BEGIN:VEVENT
DTSTART;TZID=Europe/Madrid:20250614T213000
DTEND;TZID=Europe/Madrid:20250614T235500
DTSTAMP:20260421T193635
CREATED:20250509T142606Z
LAST-MODIFIED:20251115T120229Z
UID:5751898-1749936600-1749945300@clasijazz.com
SUMMARY:Gata Brass Band
DESCRIPTION:15 € NS / 7 € S \n¡Concierto doble! \nLlega a Clasijazz una de esas noches que se recuerdan: Gata Brass Band y Steam Brass Band juntos con una misión: liarla MUY parda. \nDos bandas de viento y percusión que vienen con ganas de prenderle fuego al escenario a golpe de metales\, ritmos bailongos y actitud festivalera\, que te harán bailar (y cantar) sin parar. \nGATA BRASS BAND (Almería) fusiona la esencia de las ‘brass bands’ de Nueva Orleans con el sabor de la música latina con toques de rock\, electrónica. Mezclan los sonidos del beatbox y una potente voz soul con los instrumentos de viento para crear un sonido único. Su sonido potente y enérgico no solo se escucha\, se vive. \nSTEAM BRASS BAND (Murcia) formada por 9 músicos intergalácticos es una ‘brass band steampunk’ dispuestos a hacerte saltar\, cantar y bailar. Con sus máquinas de vapor afinadas y brillantes instrumentos de viento al más puro estilo Nueva Orleans\, reinterpretan los éxitos más modernos con un toque retrofuturista inspirado en la época victoriana. \nAsí que ya sabes: llama a tu gente\, calienta zapatillas y vente a vivir una noche de música en directo como las de antes (pero mejor). \n\nAPERTURA DE PUERTAS: 21:30\nINICIO CONCIERTOS: 22:00\nCIERRE: 01:00
URL:https://clasijazz.com/evento/gata-brass-band-y-steam-brass-band/
LOCATION:Sede Clasijazz\, Maestro Serrano 9 \, Almería\, Almería\, 04004\, España
CATEGORIES:Programación,SALON DE ACTOS
ATTACH;FMTTYPE=image/jpeg:https://clasijazz.com/wp-content/uploads/2025/05/Cartel-Clasijazz-14-junio-2025-con-Steam-Brass-Band.jpg
GEO:36.83433;-2.4614249
X-APPLE-STRUCTURED-LOCATION;VALUE=URI;X-ADDRESS=Sede Clasijazz Maestro Serrano 9  Almería Almería 04004 España;X-APPLE-RADIUS=500;X-TITLE=Maestro Serrano 9:geo:-2.4614249,36.83433
END:VEVENT
BEGIN:VEVENT
DTSTART;TZID=Europe/Madrid:20250621T120000
DTEND;TZID=Europe/Madrid:20250621T160000
DTSTAMP:20260421T193635
CREATED:20250511T174731Z
LAST-MODIFIED:20250511T182231Z
UID:5752046-1750507200-1750521600@clasijazz.com
SUMMARY:Encuentro Anual de Socios (Día Internacional de la Música)
DESCRIPTION:Sala Principal \n12:00 h – Resumen de la Temporada 2024-2025 \nPresentacion Nueva Temporada 2025-2026 y Nuevos Proyectos \n14:00 h – Comida Socios y Socias en Clasijazz  \n  \n¡ Y con máxima ilusión convocamos el Encuentro Anual de Socios de Clasijazz! \, y que mejor que en el día Internacional de la Música y cuando comienza el Verano. \nA las 12:00 h en la Sala Principal \, los diferentes departamentos de Clasijazz explicarán brevemente todos los proyectos que hemos llevado a cabo en todas las áreas y también los increíbles nuevos proyectos que vienen en la próxima temporada. \nPresentaremos ciclos y proyectos de gran envergadura que queremos compartir con todos vosotros que marcarán un antes y un después en Clasijazz… Proyectos Europeos\, Capitalidad Europea del Jazz\, muchos ciclos Nuevos \, y mucho\, mucho más… \nTambién veremos los resultados del año y la situación actual de Clasijazz. \nServirá de punto de encuentro para hacer más comunidad entre los socios\, alumnos de escuela y demás integrantes de la comunidad de Clasijazz. \nY a las 14:00 h – Y todo terminará con una Comida Gratuita para los Socios en las nuevas salas reformadas de Clasijazz y toda la nueva zona de terraza del Parque para que vivamos una jornada preciosa de convivencia durante este día tan significativo. \nMuy importante reservar vuestra plaza en esta página web para ajustar la comida dependiendo de las personas que vengan. Un abrazo muy fuerte   \nAquí tenéis toda la info de los diferentes departamentos de Clasijazz. Está muy interesante .  \nhttps://linktr.ee/clasijazz
URL:https://clasijazz.com/evento/encuentro-anual-de-socios-dia-internacional-de-la-musica/
LOCATION:Sede Clasijazz\, Maestro Serrano 9 \, Almería\, Almería\, 04004\, España
CATEGORIES:Programación,SALON DE ACTOS
ATTACH;FMTTYPE=image/jpeg:https://clasijazz.com/wp-content/uploads/2025/05/WhatsApp-Image-2025-05-09-at-12.31.14.jpeg
GEO:36.83433;-2.4614249
X-APPLE-STRUCTURED-LOCATION;VALUE=URI;X-ADDRESS=Sede Clasijazz Maestro Serrano 9  Almería Almería 04004 España;X-APPLE-RADIUS=500;X-TITLE=Maestro Serrano 9:geo:-2.4614249,36.83433
END:VEVENT
BEGIN:VEVENT
DTSTART;TZID=Europe/Madrid:20250627T220000
DTEND;TZID=Europe/Madrid:20250627T235900
DTSTAMP:20260421T193635
CREATED:20250507T222447Z
LAST-MODIFIED:20250512T141556Z
UID:5751844-1751061600-1751068740@clasijazz.com
SUMMARY:River Band y Señor Pálido
DESCRIPTION:1o € NS / GS \nSala Principal \nRiver Band  \nUna  banda de pura “naturaleza rockera” con 4 años de historia y formada por la voz de Diego Contreras\, la guitarra de Antonio López\, labatería de Juan de Dios Ferre y el bajo de Juan Caballero.  Tienen su local de ensayo en Padules y compaginan sus trabajos con la música. \nSu logo: dos oropéndolas (aves de rio) que guardan y miman en su interior un pasaje de las Canales.  \nCon los cambios en la formación decidieron dar un paso importante: Parar los bolos\, dejar “todo” atrás y montar temas propios.   \nSus originales temas están inspirados en la música rock de todos los tiempos\, con un marcado sello propio en las composiciones a las que le dan toda la energía y frescura de esta música.  \nEn estos dos últimos años han conseguido ser la banda revelación de Almeríacon veinticinco temas originales y dos discos \nEl primero se graba en 2022 “Debajo de un taburete”. La gira con este disco seinicia con la actuación en febrero 2022 en el Teatro Apolo y al que han seguido Teatro Cervantes\, ClasiJazz\, Día del Rock en Gador\, Solazo Fest en el recinto ferial de Almería\, Festival Rock de Senes\, Festival Rock Ventolera de Taberno\, etc. \nEl segundo disco es “Mil maneras” que ha sido grabado en 2024 y que se inicia con la actuación en la Sala Berlín de Almería junto al veterano grupo de La Guardia\, seguido del gran concierto en el Teatro Apolo de Almería donde han triunfado con un “sold out tickets”. \nAmbos discos\, que se pueden adquirir en sus conciertos\, en tiendas de discos La Caverna y en sus redes sociales\, están disponibles en todas las plataformas digitales. \nSeñor Pálido  \nSeñor Pálido es un proyecto personal del cantante y compositor Juande Pálido. Nace a finales de 2021 arropado por los mejores músicos y con un repertorio de temas propios. En el lanzamiento de sus primeros temas\, cuenta con la colaboración de grandes artistas del panorama nacional como Quini Almendros (La Guardia) o Popi González (Los Ángeles). \nEl proyecto se lanza con una gira a nivel nacional patrocinada por la marca de ron granadino «Ron Montero». La gira pasa por Barcelona (donde es apadrinado por Agustín Ramírez de Diablos)\, Pamplona\, Santander\, Almería\, Madrid\, Córdoba… y participa en festivales como Otura Rock Fest y enÓrbita.
URL:https://clasijazz.com/evento/river-band-y-senor-palido/
LOCATION:Sede Clasijazz\, Maestro Serrano 9 \, Almería\, Almería\, 04004\, España
CATEGORIES:Programación,SALON DE ACTOS
ATTACH;FMTTYPE=image/jpeg:https://clasijazz.com/wp-content/uploads/2025/05/image-29.jpg
GEO:36.83433;-2.4614249
X-APPLE-STRUCTURED-LOCATION;VALUE=URI;X-ADDRESS=Sede Clasijazz Maestro Serrano 9  Almería Almería 04004 España;X-APPLE-RADIUS=500;X-TITLE=Maestro Serrano 9:geo:-2.4614249,36.83433
END:VEVENT
BEGIN:VEVENT
DTSTART;TZID=Europe/Madrid:20250628T210000
DTEND;TZID=Europe/Madrid:20250628T233000
DTSTAMP:20260421T193635
CREATED:20250503T155127Z
LAST-MODIFIED:20250503T155127Z
UID:5751658-1751144400-1751153400@clasijazz.com
SUMMARY:Los Chivatos - Almeria Noise
DESCRIPTION:12 € NS / 5 € S \nSala Principal \nAlmería Noise presenta:\nLos Chivatos\, banda de punk bilbaina afincada en Madrid\, estarán en Clasijazz el próximo sábado 28 de junio.\nLos Chivatos consiguen que sus melodías y letras se te queden en la cabeza como un chicle\, y aún así seguir sin hacer pop. La agresividad de la instrumentación queda cubierta por la densa capa de humor de las letras\, alejándose del área de confort de los grupos de este género. Y es que la voz de Marto te adentra en otro universo\, uno muy propio\, que te recibe con los brazos abiertos. Punk en castellano pero que viene salteado con algo de rock urbano\, underground de los 90 e incluso un poco de hip hop en algunos fraseos. Un cúmulo de estilos que juegan a favor de la personalidad de la banda\, que desde luego hace una música muy particular\, fresca y diferente. \nLe estarán acompañando Piko\, banda local de rock garajero y crudo formada por Elisa\, Néstor\, Alfredo y Shu que ya cuenta con un EP editado por Nunca Nada colectivo y que podéis escuchar en Bandcamp.
URL:https://clasijazz.com/evento/los-chivatos-almeria-noise/
LOCATION:Sede Clasijazz\, Maestro Serrano 9 \, Almería\, Almería\, 04004\, España
CATEGORIES:Programación,SALON DE ACTOS
ATTACH;FMTTYPE=image/jpeg:https://clasijazz.com/wp-content/uploads/2025/05/WhatsApp-Image-2025-05-02-at-19.25.46.jpeg
GEO:36.83433;-2.4614249
X-APPLE-STRUCTURED-LOCATION;VALUE=URI;X-ADDRESS=Sede Clasijazz Maestro Serrano 9  Almería Almería 04004 España;X-APPLE-RADIUS=500;X-TITLE=Maestro Serrano 9:geo:-2.4614249,36.83433
END:VEVENT
END:VCALENDAR