
BEGIN:VCALENDAR
VERSION:2.0
PRODID:-//Clasijazz - ECPv6.11.0.1//NONSGML v1.0//EN
CALSCALE:GREGORIAN
METHOD:PUBLISH
X-ORIGINAL-URL:https://clasijazz.com
X-WR-CALDESC:Eventos para Clasijazz
REFRESH-INTERVAL;VALUE=DURATION:PT1H
X-Robots-Tag:noindex
X-PUBLISHED-TTL:PT1H
BEGIN:VTIMEZONE
TZID:Europe/Madrid
BEGIN:DAYLIGHT
TZOFFSETFROM:+0100
TZOFFSETTO:+0200
TZNAME:CEST
DTSTART:20240331T010000
END:DAYLIGHT
BEGIN:STANDARD
TZOFFSETFROM:+0200
TZOFFSETTO:+0100
TZNAME:CET
DTSTART:20241027T010000
END:STANDARD
END:VTIMEZONE
BEGIN:VEVENT
DTSTART;TZID=Europe/Madrid:20240805T190000
DTEND;TZID=Europe/Madrid:20240805T210000
DTSTAMP:20260420T091102
CREATED:20240730T092411Z
LAST-MODIFIED:20240730T092411Z
UID:5742123-1722884400-1722891600@clasijazz.com
SUMMARY:Eventos Creativos "Concierto Benéfico de Ayuda a Clasijazz"
DESCRIPTION:El gran equipo de Eventos Creativos va a actuar para Ayudar a Clasijazz. Un gesto bellísimo . \n5 agosto Unidos por Clasijazz \nMar Venzal\nLuz Negrillo\nSandra Rosán\nRaquel Gallardo\nCésar Maldonado\nNoelia Pérez\nAnnia Mar\nNacho Ledesma\nNadiia Violín\nAlex Navarro\nMarcel Arnalot\nChristian Schnack
URL:https://clasijazz.com/evento/eventos-creativos-concierto-benefico-de-ayuda-a-clasijazz/
LOCATION:Sede Clasijazz\, Maestro Serrano 9 \, Almería\, Almería\, 04004\, España
CATEGORIES:Programación,SALON DE ACTOS
ATTACH;FMTTYPE=image/jpeg:https://clasijazz.com/wp-content/uploads/2024/07/WhatsApp-Image-2024-07-30-at-11.09.59.jpeg
GEO:36.83433;-2.4614249
X-APPLE-STRUCTURED-LOCATION;VALUE=URI;X-ADDRESS=Sede Clasijazz Maestro Serrano 9  Almería Almería 04004 España;X-APPLE-RADIUS=500;X-TITLE=Maestro Serrano 9:geo:-2.4614249,36.83433
END:VEVENT
END:VCALENDAR