
BEGIN:VCALENDAR
VERSION:2.0
PRODID:-//Clasijazz - ECPv6.11.0.1//NONSGML v1.0//EN
CALSCALE:GREGORIAN
METHOD:PUBLISH
X-ORIGINAL-URL:https://clasijazz.com
X-WR-CALDESC:Eventos para Clasijazz
REFRESH-INTERVAL;VALUE=DURATION:PT1H
X-Robots-Tag:noindex
X-PUBLISHED-TTL:PT1H
BEGIN:VTIMEZONE
TZID:Europe/Madrid
BEGIN:DAYLIGHT
TZOFFSETFROM:+0100
TZOFFSETTO:+0200
TZNAME:CEST
DTSTART:20240331T010000
END:DAYLIGHT
BEGIN:STANDARD
TZOFFSETFROM:+0200
TZOFFSETTO:+0100
TZNAME:CET
DTSTART:20241027T010000
END:STANDARD
END:VTIMEZONE
BEGIN:VEVENT
DTSTART;TZID=Europe/Madrid:20240928T210000
DTEND;TZID=Europe/Madrid:20240928T223000
DTSTAMP:20260421T025749
CREATED:20240823T120317Z
LAST-MODIFIED:20240823T120317Z
UID:5743068-1727557200-1727562600@clasijazz.com
SUMMARY:¡Corten! Una Comedia de Cine – Luna Roja Teatro
DESCRIPTION:12 € NS / 5 € S \n\nSala Principal \nSINOPSIS: \n¡GRAN ESTRENO! ¡CORTEN!: Hollywood\, California. Leo Rubinstein es un exitoso productor. Esta noche\, su vida alegre de coches caros\, hijas enganchadas y proyectos con el pulgar arriba o abajo se va al carajo. Algo tendrá que ver Maurice McCain\, un guionista con sed de venganza. ¡Tensión\, humor y mucho cine! Recuerden que les están apuntando… \nSOBRE LA OBRA: \n¡CORTEN! LUNA ROJA TEATRO presenta con orgullo una comedia disparatada en la que teatro y cine se hacen uno: situaciones frenéticas y protagonistas al límite. Su historia\, sin filtros ni corrección política que valga\, abraza momentos inolvidables de la historia del séptimo arte. A por las palomitas. Comienza la función. \nINTÉRPRETES: JESÚS ROBLES y ANTONIO DE LA TRINIDAD RUIZ \nDIRECCIÓN TÉCNICA: MARÍA NÚÑEZ \nTEXTO: JESÚS ROBLES \nDIRECCIÓN: DITA RUIZ \nUna producción de LUNA ROJA TEATRO
URL:https://clasijazz.com/evento/corten-una-comedia-de-cine-luna-roja-teatro-2/
LOCATION:Sede Clasijazz\, Maestro Serrano 9 \, Almería\, Almería\, 04004\, España
CATEGORIES:Programación,SALON DE ACTOS
ATTACH;FMTTYPE=image/jpeg:https://clasijazz.com/wp-content/uploads/2024/08/WhatsApp-Image-2024-08-20-at-12.16.16.jpeg
GEO:36.83433;-2.4614249
X-APPLE-STRUCTURED-LOCATION;VALUE=URI;X-ADDRESS=Sede Clasijazz Maestro Serrano 9  Almería Almería 04004 España;X-APPLE-RADIUS=500;X-TITLE=Maestro Serrano 9:geo:-2.4614249,36.83433
END:VEVENT
END:VCALENDAR