
BEGIN:VCALENDAR
VERSION:2.0
PRODID:-//Clasijazz - ECPv6.11.0.1//NONSGML v1.0//EN
CALSCALE:GREGORIAN
METHOD:PUBLISH
X-ORIGINAL-URL:https://clasijazz.com
X-WR-CALDESC:Eventos para Clasijazz
REFRESH-INTERVAL;VALUE=DURATION:PT1H
X-Robots-Tag:noindex
X-PUBLISHED-TTL:PT1H
BEGIN:VTIMEZONE
TZID:Europe/Madrid
BEGIN:DAYLIGHT
TZOFFSETFROM:+0100
TZOFFSETTO:+0200
TZNAME:CEST
DTSTART:20240331T010000
END:DAYLIGHT
BEGIN:STANDARD
TZOFFSETFROM:+0200
TZOFFSETTO:+0100
TZNAME:CET
DTSTART:20241027T010000
END:STANDARD
END:VTIMEZONE
BEGIN:VEVENT
DTSTART;TZID=Europe/Madrid:20241216T203000
DTEND;TZID=Europe/Madrid:20241216T213000
DTSTAMP:20260426T015216
CREATED:20241210T104449Z
LAST-MODIFIED:20241210T104449Z
UID:5746423-1734381000-1734384600@clasijazz.com
SUMMARY:Big Band del RCPMA "Julián Arcas"
DESCRIPTION:Entrada Libre  hasta completar aforo \nUna pasada de Repertorio \, con alguna sorpresa navideña\, además de temazos de Phil Collins Big Band y mucho swing \, y funk. No te lo pierdas. \n  \n–   ⁠⁠Moises Pérez Lucena. Clarinete \n•⁠ ⁠⁠Violeta Ortega Ibáñez. Clarinete\n•⁠ ⁠Eladio Torrente Fernández Clarinete\n•⁠ ⁠Maite Neri Eugui\, flauta• ⁠ \n– Rubén Miras Tenorio saxofón alto\n•⁠ ⁠Javier Juan Ramos Saxo alto \n•⁠ ⁠Juanra Mollá. Saxo tenor. \n•⁠ ⁠Antonio Pérez Lucena. Saxo Barítono. \n-David Almécija :Trompeta \n-Mario Garcia – Trompeta \n•⁠ ⁠Héctor Juan Ramos Trompeta \n•⁠ ⁠Pablo Sánchez Salas Trompeta \n•⁠ ⁠Lucas Baño trombón  \n•⁠ ⁠Fernando Sastre Guil Trombón \n•⁠ ⁠José Sánchez Molina. Trombón \n•⁠ ⁠Miguel Ángel Curiel. Fagot \n•⁠ ⁠McLord Osayuwuare Oviawe Gali guitarra y voz \n•⁠ ⁠Antonio Fernández López. Piano \n•⁠ ⁠Manuel Masero Téllez contrabajo\n•⁠ ⁠Pablo Román Robles batería \n  \nDirector : Pablo Mazuecos
URL:https://clasijazz.com/evento/big-band-del-rcpma-julian-arcas/
LOCATION:Sede Clasijazz\, Maestro Serrano 9 \, Almería\, Almería\, 04004\, España
CATEGORIES:Programación,SALON DE ACTOS
ATTACH;FMTTYPE=image/png:https://clasijazz.com/wp-content/uploads/2024/12/Captura-de-pantalla-2024-12-10-a-las-11.43.30.png
GEO:36.83433;-2.4614249
X-APPLE-STRUCTURED-LOCATION;VALUE=URI;X-ADDRESS=Sede Clasijazz Maestro Serrano 9  Almería Almería 04004 España;X-APPLE-RADIUS=500;X-TITLE=Maestro Serrano 9:geo:-2.4614249,36.83433
END:VEVENT
BEGIN:VEVENT
DTSTART;TZID=Europe/Madrid:20241217T210000
DTEND;TZID=Europe/Madrid:20241217T223000
DTSTAMP:20260426T015216
CREATED:20241202T185410Z
LAST-MODIFIED:20241202T185410Z
UID:5746066-1734469200-1734474600@clasijazz.com
SUMMARY:Recital de Alumnos de Canto de la profesora María Pina del RCPMA "Julián Arcas"
DESCRIPTION:Entrada libre \nSala Principal \nOrganización y Dirección: María Pina \nPianistas: Pablo Mazuecos & Juan Vicente García \n  \nFrancisco Cortés \, Nana………………………M. Castillo \nPablo Iglesias\,\nSebben Crudele  …………. A. Caldara \nA Vuchella…………………….F. Tosti \nJulia Matarín \nO leggiadri occhi belli ……. Anónimo \nL´ho perduta (las bodas de Fígaro) …. W.A. Mozart \nArsenio Gutierrez  \nDelizie contente…………… F. Cavalli \nCaro mio ben………………. G.Giordani \nCristina Góngora \nAlma sintamos. ……………. F.Esteve \nPastorella spera ……………. A. Bononcini \nAlicia García  \nPámpano Verde……………… De la Torre \nPastorcillo Santo ……………… J. Rodrigo \nMaría del Mar López  \nCome rayo di sol ………………A. Caldara \nPiango Gemo…………………….A. Vivaldi \nMiguel López  \nSon tutta duolo…………………..A. Scarlatti \nAdela …………………………………J .Rodrigo \nMartina Gómez \nCosi\, amor\, mi fai languir …….. A. Stradella \nCon qué la lavaré…………………..J Rodrigo \nLelia Casquet  \nAve María (Otelo)    ……………… G. Verdi \nRomanza de Catalina……………….J. Gaztambide \nLucio Riess \nWie Melodien………………………… J . Brahms \nIn der ferne……………………………F. Schubert \nPaula Moya \nQuia Resexit (Magnificat). ………… J.S . Bach \nLe Violette ………………………………. Scarlatti \nAntonio F. Jiménez  \nO del mio amato ben………………….. Stefano Donaudy \nOuvre tes yeux bleus ……………………. J.\, Massenet \n  \n 
URL:https://clasijazz.com/evento/recital-de-alumnos-de-canto-de-la-profesora-maria-pina-del-rcpma-julian-arcas/
LOCATION:Sede Clasijazz\, Maestro Serrano 9 \, Almería\, Almería\, 04004\, España
CATEGORIES:Programación,SALON DE ACTOS
ATTACH;FMTTYPE=image/png:https://clasijazz.com/wp-content/uploads/2024/12/Captura-de-pantalla-2024-12-02-a-las-19.40.52.png
GEO:36.83433;-2.4614249
X-APPLE-STRUCTURED-LOCATION;VALUE=URI;X-ADDRESS=Sede Clasijazz Maestro Serrano 9  Almería Almería 04004 España;X-APPLE-RADIUS=500;X-TITLE=Maestro Serrano 9:geo:-2.4614249,36.83433
END:VEVENT
BEGIN:VEVENT
DTSTART;TZID=Europe/Madrid:20241221T123000
DTEND;TZID=Europe/Madrid:20241221T133000
DTSTAMP:20260426T015216
CREATED:20241202T182726Z
LAST-MODIFIED:20241202T182918Z
UID:5746056-1734784200-1734787800@clasijazz.com
SUMMARY:Charles Dickens "Cuento de Navidad" - Representación Teatral del Grupo Juvenil de Clasijazz
DESCRIPTION:5 € NS /  GS \nSala Principal \nYa nos acercamos a las fechas navideñas y ha llegado la hora de hacer una obra de teatro especial de estas fiestas y qué mejor pretexto que el cuento de Navidad de Charles Dickens. Nuestro grupo de teatro más joven del Clasijazz nos mostrarán que estás fiestas son un buen momento para recordar la importancia de la generosidad y el amor en esta vida.❤️ ¡Sois bienvenidos y bienvenidas a ver esta función tan especial!\nFecha: Sábado\, 21 de diciembre\nHora: 12.30
URL:https://clasijazz.com/evento/charles-dickens-cuento-de-navidad-representacion-teatral-del-grupo-juvenil-de-clasijazz/
LOCATION:Sede Clasijazz\, Maestro Serrano 9 \, Almería\, Almería\, 04004\, España
CATEGORIES:Programación,SALON DE ACTOS
ATTACH;FMTTYPE=image/jpeg:https://clasijazz.com/wp-content/uploads/2024/12/WhatsApp-Image-2024-12-02-at-19.09.59.jpeg
GEO:36.83433;-2.4614249
X-APPLE-STRUCTURED-LOCATION;VALUE=URI;X-ADDRESS=Sede Clasijazz Maestro Serrano 9  Almería Almería 04004 España;X-APPLE-RADIUS=500;X-TITLE=Maestro Serrano 9:geo:-2.4614249,36.83433
END:VEVENT
END:VCALENDAR