
BEGIN:VCALENDAR
VERSION:2.0
PRODID:-//Clasijazz - ECPv6.11.0.1//NONSGML v1.0//EN
CALSCALE:GREGORIAN
METHOD:PUBLISH
X-ORIGINAL-URL:https://clasijazz.com
X-WR-CALDESC:Eventos para Clasijazz
REFRESH-INTERVAL;VALUE=DURATION:PT1H
X-Robots-Tag:noindex
X-PUBLISHED-TTL:PT1H
BEGIN:VTIMEZONE
TZID:Europe/Madrid
BEGIN:DAYLIGHT
TZOFFSETFROM:+0100
TZOFFSETTO:+0200
TZNAME:CEST
DTSTART:20250330T010000
END:DAYLIGHT
BEGIN:STANDARD
TZOFFSETFROM:+0200
TZOFFSETTO:+0100
TZNAME:CET
DTSTART:20251026T010000
END:STANDARD
END:VTIMEZONE
BEGIN:VEVENT
DTSTART;TZID=Europe/Madrid:20250123T220000
DTEND;TZID=Europe/Madrid:20250123T233000
DTSTAMP:20260422T094228
CREATED:20250115T104349Z
LAST-MODIFIED:20250115T104349Z
UID:5747565-1737669600-1737675000@clasijazz.com
SUMMARY:Spicy Sessions Nº 4
DESCRIPTION:15 € NS / 7 € S \nSala Principal \n¡No te pierdas la SPICY SESSIONS NO.4! \nComenzamos el nuevo año con una edición espectacular que eleva el arte del flamenco-jazz a otro nivel. Tras el éxito arrollador de las ediciones anteriores\, volvemos con una fusión única de flamenco y jazz que te hará vibrar desde el primer acorde. \nSumérgete en una experiencia musical en directo\, cargada de talento\, improvisación y energía. Disfruta de un ambiente íntimo y especial\, ideal para iniciar el año con buen ritmo. \nEntradas limitadas: asegúrate de conseguir la tuya antes de que se agoten y sé parte de una noche inolvidable. ¡Te esperamos en la SPICY SESSIONS NO.4!
URL:https://clasijazz.com/evento/spicy-sessions-no-4/
LOCATION:Sede Clasijazz\, Maestro Serrano 9 \, Almería\, Almería\, 04004\, España
CATEGORIES:Programación,SALON DE ACTOS
ATTACH;FMTTYPE=image/jpeg:https://clasijazz.com/wp-content/uploads/2025/01/SPIiCY-NO.4-07-copia-scaled.jpg
GEO:36.83433;-2.4614249
X-APPLE-STRUCTURED-LOCATION;VALUE=URI;X-ADDRESS=Sede Clasijazz Maestro Serrano 9  Almería Almería 04004 España;X-APPLE-RADIUS=500;X-TITLE=Maestro Serrano 9:geo:-2.4614249,36.83433
END:VEVENT
BEGIN:VEVENT
DTSTART;TZID=Europe/Madrid:20250125T183000
DTEND;TZID=Europe/Madrid:20250125T200000
DTSTAMP:20260422T094228
CREATED:20250115T144612Z
LAST-MODIFIED:20250115T144612Z
UID:5747603-1737829800-1737835200@clasijazz.com
SUMMARY:Loudly "La verdad absoluta"
DESCRIPTION:10 € NS / GS \nSala Principal \n“Laverdadabsoluta” en el tercer trabajo de los inquebrantables Loudly \, que mientras siguen agarrados con fuerza a una línea ascendente\, no cesan en su capacidad de hacernos daño con su música y apretarnos donde más nos duele\, con sus textos directos y sinceros en los que escupen sus miedos para después p onerlos c on m imo e n l a estantería de t rofeos y f racasos. Con este disco el quinteto nos ofrece el desenlace de una trilogía a la que le preceden “Laguerraconstante” ( 2016) y “ Elfactorgrotesco” ( 2018). 10 canciones empapadas de enfrentamientos\, encuentros\, reencuentros y choques de emergencia que asientan la personalidad de la banda demostrando que han encontrado un punto de madurez tras años de crecimiento constante. Laverdadabsoluta es el momento\, la unión y el baile de los elementos. Una tortura emocional que repasa cada una de las sensaciones que angustian el alma cuando todo salta por los aires. Ascender sin vértigo y saltar sin control ni paracaídas\, los intentos fallidos\, la falta de aciertos y un motor que mueve al mundo\, EL MIEDO. Este nuevo trabajo nos ofrece canciones que bailan descaradamente entre ritmos viscerales\, frenéticos\, muchos de ellos contundentes\, y otros\, capaces de zarandearte sin piedad con melodías brillantes y textos solo aptos para almas de destrucción masiva. “La luz mecánica ha irrumpido en forma de estallido\, principio y final. No habrá resurrección y creer no vale de nada porque esta FÉ no se podrá predicar” “Como apagar fuego con gasolina”
URL:https://clasijazz.com/evento/loudly-la-verdad-absoluta/
LOCATION:Sede Clasijazz\, Maestro Serrano 9 \, Almería\, Almería\, 04004\, España
CATEGORIES:Programación,SALON DE ACTOS
ATTACH;FMTTYPE=image/jpeg:https://clasijazz.com/wp-content/uploads/2025/01/WhatsApp-Image-2025-01-12-at-08.44.58.jpeg
GEO:36.83433;-2.4614249
X-APPLE-STRUCTURED-LOCATION;VALUE=URI;X-ADDRESS=Sede Clasijazz Maestro Serrano 9  Almería Almería 04004 España;X-APPLE-RADIUS=500;X-TITLE=Maestro Serrano 9:geo:-2.4614249,36.83433
END:VEVENT
END:VCALENDAR