
BEGIN:VCALENDAR
VERSION:2.0
PRODID:-//Clasijazz - ECPv6.11.0.1//NONSGML v1.0//EN
CALSCALE:GREGORIAN
METHOD:PUBLISH
X-ORIGINAL-URL:https://clasijazz.com
X-WR-CALDESC:Eventos para Clasijazz
REFRESH-INTERVAL;VALUE=DURATION:PT1H
X-Robots-Tag:noindex
X-PUBLISHED-TTL:PT1H
BEGIN:VTIMEZONE
TZID:Europe/Madrid
BEGIN:DAYLIGHT
TZOFFSETFROM:+0100
TZOFFSETTO:+0200
TZNAME:CEST
DTSTART:20250330T010000
END:DAYLIGHT
BEGIN:STANDARD
TZOFFSETFROM:+0200
TZOFFSETTO:+0100
TZNAME:CET
DTSTART:20251026T010000
END:STANDARD
END:VTIMEZONE
BEGIN:VEVENT
DTSTART;TZID=Europe/Madrid:20250201T220000
DTEND;TZID=Europe/Madrid:20250510T233000
DTSTAMP:20260423T092305
CREATED:20250501T062407Z
LAST-MODIFIED:20250510T125913Z
UID:5751465-1738447200-1746919800@clasijazz.com
SUMMARY:Albert Bover & David Xirgu
DESCRIPTION:20 € NS / 10 € S \nSala Principal \nMúsicos destacados de una generación de jazzistas de gran talento\, David Xirgu y Albert Bover son dos pesos pesados ​​de la escena del jazz en nuestro país y más allá. Han tocado a menudo en trío o formaciones con mas solistas\, pero han decido ahora jugar con el formato poco habitual de dúo de piano y batería\, que da alas a la libertad y la experimentación\, para dibujar un concierto que promete ser vibrante y estimulante.
URL:https://clasijazz.com/evento/albert-bover-david-xirgu/
LOCATION:Sede Clasijazz\, Maestro Serrano 9 \, Almería\, Almería\, 04004\, España
CATEGORIES:Programación,SALON DE ACTOS
ATTACH;FMTTYPE=image/jpeg:https://clasijazz.com/wp-content/uploads/2025/05/image-28.jpg
GEO:36.83433;-2.4614249
X-APPLE-STRUCTURED-LOCATION;VALUE=URI;X-ADDRESS=Sede Clasijazz Maestro Serrano 9  Almería Almería 04004 España;X-APPLE-RADIUS=500;X-TITLE=Maestro Serrano 9:geo:-2.4614249,36.83433
END:VEVENT
BEGIN:VEVENT
DTSTART;TZID=Europe/Madrid:20250404T210000
DTEND;TZID=Europe/Madrid:20250404T230000
DTSTAMP:20260423T092305
CREATED:20250123T212643Z
LAST-MODIFIED:20250327T163730Z
UID:5747975-1743800400-1743807600@clasijazz.com
SUMMARY:4 Planes
DESCRIPTION:10 € NS / GS \nSala Principal \nVuelven a Clasijazz esta formación de  cuatro músicos con cuatro planes de vida muy distintos que decidieron unirse para jugar con canciones que formaban parte de su historia sonora y de la de los espectadores de sus conciertos. \nFran Artés\, Horacio Cano\, José Salvador y Ester Núñez son Cuatro Planes\, un grupo que da su toque personal a grandes temas de la historia de la música y temas propios. \nCada concierto es diferente\, único e irrepetible\, con colaboraciones de amigos y grandes artistas del panorama almeriense que harán de la noche del viernes una gran fiesta. \n¿Te vienes?
URL:https://clasijazz.com/evento/4-planes-2/
LOCATION:Sede Clasijazz\, Maestro Serrano 9 \, Almería\, Almería\, 04004\, España
CATEGORIES:Programación,SALON DE ACTOS
ATTACH;FMTTYPE=image/jpeg:https://clasijazz.com/wp-content/uploads/2025/01/Imagen-de-WhatsApp-2025-03-27-a-las-17.28.57_ac9faa4e.jpg
GEO:36.83433;-2.4614249
X-APPLE-STRUCTURED-LOCATION;VALUE=URI;X-ADDRESS=Sede Clasijazz Maestro Serrano 9  Almería Almería 04004 España;X-APPLE-RADIUS=500;X-TITLE=Maestro Serrano 9:geo:-2.4614249,36.83433
END:VEVENT
BEGIN:VEVENT
DTSTART;TZID=Europe/Madrid:20250405T220000
DTEND;TZID=Europe/Madrid:20250405T233000
DTSTAMP:20260423T092305
CREATED:20250120T181306Z
LAST-MODIFIED:20250320T163622Z
UID:5747747-1743890400-1743895800@clasijazz.com
SUMMARY:ALBORÁN Festival de las Músicas   y de las Artes de Orilla en Orilla
DESCRIPTION:12 € NS / 5 € S \nSala Principal \n“ALBORÁN Festival de las Músicas \n y de las Artes de Orilla en Orilla” \n Nuevamente en colaboración con Clasijazz presentamos un nuevo Alborán festiva l\, que  como viene siendo de costumbre presenta proyectos musicales internacionales y \n nacionales.. \n En esta ocasión contamos con la participación internacional proveniente de Brasil y más  concretamente de Bahía\, donde ambos miembros son docentes de la universidad UFBA\, el \n dúo formado por Ma Janaina Carvalho (voz) y Ricardo Camponogara (Guitarra) \n Alborán Festival a la par presenta dos nuevos proyectos Nacionales que se presentarán este 5 de abril:  “The New Beatles Project” y “El Quinteto de Las Ramblas”
URL:https://clasijazz.com/evento/alboran-festival-de-las-musicas-y-de-las-artes-de-orilla-en-orilla/
LOCATION:Sede Clasijazz\, Maestro Serrano 9 \, Almería\, Almería\, 04004\, España
CATEGORIES:Programación,SALON DE ACTOS
ATTACH;FMTTYPE=image/jpeg:https://clasijazz.com/wp-content/uploads/2025/01/Imagen-de-WhatsApp-2025-03-19-a-las-15.44.39_69d05ff7-scaled.jpg
GEO:36.83433;-2.4614249
X-APPLE-STRUCTURED-LOCATION;VALUE=URI;X-ADDRESS=Sede Clasijazz Maestro Serrano 9  Almería Almería 04004 España;X-APPLE-RADIUS=500;X-TITLE=Maestro Serrano 9:geo:-2.4614249,36.83433
END:VEVENT
END:VCALENDAR