
BEGIN:VCALENDAR
VERSION:2.0
PRODID:-//Clasijazz - ECPv6.11.0.1//NONSGML v1.0//EN
CALSCALE:GREGORIAN
METHOD:PUBLISH
X-WR-CALNAME:Clasijazz
X-ORIGINAL-URL:https://clasijazz.com
X-WR-CALDESC:Eventos para Clasijazz
REFRESH-INTERVAL;VALUE=DURATION:PT1H
X-Robots-Tag:noindex
X-PUBLISHED-TTL:PT1H
BEGIN:VTIMEZONE
TZID:Europe/Madrid
BEGIN:DAYLIGHT
TZOFFSETFROM:+0100
TZOFFSETTO:+0200
TZNAME:CEST
DTSTART:20250330T010000
END:DAYLIGHT
BEGIN:STANDARD
TZOFFSETFROM:+0200
TZOFFSETTO:+0100
TZNAME:CET
DTSTART:20251026T010000
END:STANDARD
END:VTIMEZONE
BEGIN:VEVENT
DTSTART;TZID=Europe/Madrid:20250526T220000
DTEND;TZID=Europe/Madrid:20250526T233000
DTSTAMP:20260419T163632
CREATED:20250121T112523Z
LAST-MODIFIED:20250526T060350Z
UID:5747805-1748296800-1748302200@clasijazz.com
SUMMARY:Nicole Zuraitis Quartet
DESCRIPTION:50 € NS / 30 € S \nSala Principal \nGrammy Winner 2024 (Best Vocal Album) &  Nominee 2025 (Best Jazz Performance & Best Large Jazz Ensemble) \nLa cantante y pianista sensación del momento . Menuda voz y como toca\, una pasada de concierto que no te puedes perder en Clasijazz. Es brutal el grupazo. Y como improvisa y la energía que transmite. Una de las mejores voces del panorama internacional en Clasijazz. \nNicole Zuraitis es una cantante\, compositora\, pianista y arreglista de jazz ganadora de un GRAMMY® y nominada cuatro veces al GRAMMY\, líder de banda radicada en Nueva York y ganadora de la prestigiosa Medalla de Oro del Concurso Vocal American Traditions 2021. Con un «corazón tan grande como su extraordinaria voz» (Jazz Police)\, Nicole es una artista pionera que está redefiniendo el jazz vocal\, lo que le valió un lugar como una de las mejores artistas y «compositoras prolíficas» (Broadway World) a tener en cuenta en el jazz y más allá. \nComo artista discográfica\, Nicole ha lanzado cinco álbumes como líder\, y su sexto álbum How Love Begins\, coproducido con el ocho veces ganador del GRAMMY Christian McBride\, presenta toda la música original y recibió el GRAMMY 2024 al MEJOR ÁLBUM VOCAL DE JAZZ. Nicole es la única artista que ha ganado este premio que escribió y arregló todo el álbum ella misma. Además de liderar su cuarteto\, Nicole actuó y grabó con la Birdland Big Band como vocalista principal antes de despegar como líder de un gran conjunto por su cuenta\, coproduciendo la Dan Pugach Big Band y tocando como invitada en las principales big bands europeas. Ha encabezado el Newport Jazz Festival\, junto con clubes de jazz icónicos de Nueva York como Dizzy’s Club en el Lincoln Center\, Birdland\, Blue Note\, Carlyle\, 54 Below y el gran 55 Bar\, que ya no existe. Ha aparecido como solista destacada con la Filarmónica de Savannah\, la Sinfónica de Asheville y Macon Pops\, y ha teloneado a cantantes icónicos como Melanie\, Morgan James\, Darren Criss y Livingston Taylor en piano y voz. \nNicole es una artista destacada y productora del álbum nominado al GRAMMY 2025 de su esposo\, el reconocido baterista\, director de banda y compositor Dan Pugach\, «Bianca Reimagined: Music for Paws and Persistence» (Mejor Ensamble Grande)\, para el cual compusieron la canción nominada al GRAMMY\, «Little Fears» (Mejor Interpretación de Jazz). El arreglo de Nicole de Jolene de Dolly Parton\, coescrito con el reconocido baterista y director de banda Dan Pugach\, fue nominado a un GRAMMY® 2019\, lo que impulsó su carrera y la convirtió en un nombre familiar en el panorama del jazz moderno. En 2020\, fue nombrada entre los 40 mejores menores de 40 años de 2020 en Connecticut Magazine\, y su transmisión en vivo semanal durante la crisis de Covid-19\, «Virtual Piano Lounge»\, apareció en Forbes Magazine. Nicole ha colaborado con una extensa lista de personalidades\, entre ellas Christian McBride\, David Cook\, Gilad Hekselman\, Veronica Swift\, Benny Benack\, Stephen Feifke\, Cyrille Aimee\, Antonio Sanchez\, Dave Stryker\, Omar Hakim\, Rachel Z\, Helen Sung y Bernard Purdie. Es una orgullosa educadora y actualmente es profesora vocal en NYU y SUNY Purchase. \nEs una activista ardiente con una trayectoria de una década de retribución a la comunidad\, el lanzamiento de su álbum de 2023 coincidió con un festival de música autoproducido y un día de activismo para Save the Sound.Org. En 2024\, la Universidad Post le otorgó a Nicole un Doctorado Honoris Causa en Letras Humanitarias. Para obtener más información\, visite www.nicolezmusic.com o etiquete a @nicolezmusic. \n  \nNicole Zuraitis – Piano/Vocals \nDan Pugach – Drums \nIdan Morim – Guitar \nSam Weber – Bass \nVideo: \n \n  \n  \n  \n 
URL:https://clasijazz.com/evento/nicole-zuraitis-quartet/
LOCATION:Sede Clasijazz\, Maestro Serrano 9 \, Almería\, Almería\, 04004\, España
CATEGORIES:Programación,SALON DE ACTOS
ATTACH;FMTTYPE=image/jpeg:https://clasijazz.com/wp-content/uploads/2025/01/66e2ade4277264f6f6f75cd9_Nicole-Zuraitis_IMG_0128-matt-baker-ausschnitt-scaled.jpg
GEO:36.83433;-2.4614249
X-APPLE-STRUCTURED-LOCATION;VALUE=URI;X-ADDRESS=Sede Clasijazz Maestro Serrano 9  Almería Almería 04004 España;X-APPLE-RADIUS=500;X-TITLE=Maestro Serrano 9:geo:-2.4614249,36.83433
END:VEVENT
BEGIN:VEVENT
DTSTART;TZID=Europe/Madrid:20250531T120000
DTEND;TZID=Europe/Madrid:20250531T130000
DTSTAMP:20260419T163632
CREATED:20250111T133516Z
LAST-MODIFIED:20250505T150349Z
UID:5747335-1748692800-1748696400@clasijazz.com
SUMMARY:Jam Tutorizada
DESCRIPTION:5 € NS / GS \nSala Principal \nA las 12:00 tenemos de nuevo la JAM TUTORIZADA (reunión de músicos para tocar juntos) dirigida por nuestro profesor de piano Miguel Rosales que propondrá diferentes canciones sencillas para que todo el mundo pueda tocar y guiará la sesión. También puedes traer algo que quieras tocar. ¡Para eso es una jam! ¡¡¡Para tocar!!! \nAquí tenéis las partituras del repertorio que ya se ha tocado en las anteriores sesiones. https://drive.google.com/drive/folders/1UxoxO9_dEayuef1syjfEmzk2mpWWb7n7?usp=sharing \nAbierto para todos los músicos e instrumentos. Incluidos cantantes y familias! \nEsperamos que disfrutéis compartiendo Clasijazz con todos los alumnos\, socios y familias. \n 
URL:https://clasijazz.com/evento/jam-tutorizada-4/
LOCATION:Sede Clasijazz\, Maestro Serrano 9 \, Almería\, Almería\, 04004\, España
CATEGORIES:Programación,SALON DE ACTOS
ATTACH;FMTTYPE=image/jpeg:https://clasijazz.com/wp-content/uploads/2025/01/WhatsApp-Image-2025-01-11-at-14.22.54.jpeg
GEO:36.83433;-2.4614249
X-APPLE-STRUCTURED-LOCATION;VALUE=URI;X-ADDRESS=Sede Clasijazz Maestro Serrano 9  Almería Almería 04004 España;X-APPLE-RADIUS=500;X-TITLE=Maestro Serrano 9:geo:-2.4614249,36.83433
END:VEVENT
BEGIN:VEVENT
DTSTART;TZID=Europe/Madrid:20250531T220000
DTEND;TZID=Europe/Madrid:20250531T233000
DTSTAMP:20260419T163632
CREATED:20250122T163629Z
LAST-MODIFIED:20250531T170156Z
UID:5747872-1748728800-1748734200@clasijazz.com
SUMMARY:Peter Rooster + Valses Duros
DESCRIPTION:10 € NS / GS \nSala Principal \n\nPeter Rooster  \nUn año después\, y tras agotar todas las entradas en su anterior concierto\, Peter Rooster vuelven a Clasijazz para presentarnos nuevos temas y hacernos disfrutar con su rock “ indie”. Peter Rooster es una banda almeriense con miembros de distintas partes de Andalucía que parten del indie rock y lo mezclan con el rock alternativo desde los 70 hasta la actualidad. Desde que salió su primer EP\, han aparecido en varias radios y podcast españoles y han sido semifinalistas del concurso del Pulpop de este mismo año. Con su nuevo single: Hide\, a buen seguro dejarán de ser una “ joya escondida”. \nValses duros \nValses duros comenzó en el verano de 2021. Nuestro estilo musical es rock con diversas influencias como el blues\, hard rock\, alternativo\, indie\,… Tenemos dos trabajos en estudio\, «Huracán reversible» de 2022 y «En peligro de extinción» de 2024. Hemos tocado en diversas salas como Dragón fly\, Valhalla\, Clasicjazz\,…\nValses duros son Rafael Ferrer Rueda Voz y bajo\, Rafael Luis Salvador González batería y coros\, Manuel Jesús Martínez Membrive guitarra y coros. \n 
URL:https://clasijazz.com/evento/peter-rooster/
LOCATION:Clasijazz\, C/Maestro Serrano nº9\, Almería\, 04004
CATEGORIES:Programación,SALON DE ACTOS
ATTACH;FMTTYPE=image/jpeg:https://clasijazz.com/wp-content/uploads/2025/01/peter.jpg
GEO:36.8366538;-2.4610327
X-APPLE-STRUCTURED-LOCATION;VALUE=URI;X-ADDRESS=Clasijazz C/Maestro Serrano nº9 Almería 04004;X-APPLE-RADIUS=500;X-TITLE=C/Maestro Serrano nº9:geo:-2.4610327,36.8366538
END:VEVENT
END:VCALENDAR