
BEGIN:VCALENDAR
VERSION:2.0
PRODID:-//Clasijazz - ECPv6.11.0.1//NONSGML v1.0//EN
CALSCALE:GREGORIAN
METHOD:PUBLISH
X-WR-CALNAME:Clasijazz
X-ORIGINAL-URL:https://clasijazz.com
X-WR-CALDESC:Eventos para Clasijazz
REFRESH-INTERVAL;VALUE=DURATION:PT1H
X-Robots-Tag:noindex
X-PUBLISHED-TTL:PT1H
BEGIN:VTIMEZONE
TZID:Europe/Madrid
BEGIN:DAYLIGHT
TZOFFSETFROM:+0100
TZOFFSETTO:+0200
TZNAME:CEST
DTSTART:20260329T010000
END:DAYLIGHT
BEGIN:STANDARD
TZOFFSETFROM:+0200
TZOFFSETTO:+0100
TZNAME:CET
DTSTART:20261025T010000
END:STANDARD
END:VTIMEZONE
BEGIN:VEVENT
DTSTART;TZID=Europe/Madrid:20260211T220000
DTEND;TZID=Europe/Madrid:20260211T233000
DTSTAMP:20260422T101720
CREATED:20250903T173754Z
LAST-MODIFIED:20250903T173754Z
UID:5764777-1770847200-1770852600@clasijazz.com
SUMMARY:Jam Session
DESCRIPTION:3 € No Soci@ / gratuito Soci@ \nSala Principal \nCada miércoles puedes disfrutar de una Jam Session. Uno de los eventos más seguidos en Almería y por el que han pasado muchísimos músicos y público. ¡Disfruta de esta maravilla de Jam Session!
URL:https://clasijazz.com/evento/jam-session-4/2026-02-11/
LOCATION:Sede Clasijazz\, Maestro Serrano 9 \, Almería\, Almería\, 04004\, España
CATEGORIES:Programación
ATTACH;FMTTYPE=image/jpeg:https://clasijazz.com/wp-content/uploads/2025/09/PANA5800-scaled.jpg
GEO:36.83433;-2.4614249
X-APPLE-STRUCTURED-LOCATION;VALUE=URI;X-ADDRESS=Sede Clasijazz Maestro Serrano 9  Almería Almería 04004 España;X-APPLE-RADIUS=500;X-TITLE=Maestro Serrano 9:geo:-2.4614249,36.83433
END:VEVENT
BEGIN:VEVENT
DTSTART;TZID=Europe/Madrid:20260211T220000
DTEND;TZID=Europe/Madrid:20260211T233000
DTSTAMP:20260422T101720
CREATED:20260122T154441Z
LAST-MODIFIED:20260122T154441Z
UID:5761997-1770847200-1770852600@clasijazz.com
SUMMARY:Jam Session - Cuarteto tú
DESCRIPTION:3 € No Soci@ / gratuito Soci@ \nSala Principal \n\nCada miércoles puedes disfrutar de una Jam Session. Uno de los eventos más seguidos en Almería y por el que han pasado muchísimos músicos y público. ¡Disfruta de esta maravilla de Jam Session!
URL:https://clasijazz.com/evento/jam-session-cuarteto-tu/
LOCATION:Sede Clasijazz\, Maestro Serrano 9 \, Almería\, Almería\, 04004\, España
CATEGORIES:Programación
ATTACH;FMTTYPE=image/jpeg:https://clasijazz.com/wp-content/uploads/2026/01/WhatsApp-Image-2026-01-22-at-10.05.33.jpeg
GEO:36.83433;-2.4614249
X-APPLE-STRUCTURED-LOCATION;VALUE=URI;X-ADDRESS=Sede Clasijazz Maestro Serrano 9  Almería Almería 04004 España;X-APPLE-RADIUS=500;X-TITLE=Maestro Serrano 9:geo:-2.4614249,36.83433
END:VEVENT
BEGIN:VEVENT
DTSTART;TZID=Europe/Madrid:20260212T210000
DTEND;TZID=Europe/Madrid:20260212T230000
DTSTAMP:20260422T101720
CREATED:20250929T114658Z
LAST-MODIFIED:20260401T173306Z
UID:5761359-1770930000-1770937200@clasijazz.com
SUMMARY:Intercambio de Idiomas
DESCRIPTION:Sala Industrial Clasijazz \nEntrada Libre \n\n¿Quieres conocer gente nueva y compartir ideas\, experiencias y opiniones mientras practicas tus habilidades lingüísticas? \n¡Hablaremos de todo: culturas\, profesiones\, arte y música! \n¿Nivel avanzado? ¿Intermedio? ¿Principiante? ¡Hay espacio para todos! \nÚnete a la comunidad del Intercambio de Idiomas y deja que la magia deja que la magia de los idiomas te atrape. \nDesde Octubre y todos los jueves 21:00-23:00
URL:https://clasijazz.com/evento/intercambio-de-idiomas-5/2026-02-12/
LOCATION:Clasijazz\, C/Maestro Serrano nº9\, Almería\, 04004
CATEGORIES:Programación
ATTACH;FMTTYPE=image/jpeg:https://clasijazz.com/wp-content/uploads/2025/09/Intercambio-de-Idiomas.jpg
GEO:36.8366538;-2.4610327
X-APPLE-STRUCTURED-LOCATION;VALUE=URI;X-ADDRESS=Clasijazz C/Maestro Serrano nº9 Almería 04004;X-APPLE-RADIUS=500;X-TITLE=C/Maestro Serrano nº9:geo:-2.4610327,36.8366538
END:VEVENT
BEGIN:VEVENT
DTSTART;TZID=Europe/Madrid:20260212T220000
DTEND;TZID=Europe/Madrid:20260212T233000
DTSTAMP:20260422T101720
CREATED:20251229T155005Z
LAST-MODIFIED:20251229T155055Z
UID:5761120-1770933600-1770939000@clasijazz.com
SUMMARY:Jam Session con Anders Boye Knudsen - PORT OF SPAIN
DESCRIPTION:Entrada Libre | Port of Spain
URL:https://clasijazz.com/evento/jam-session-con-anders-boye-knudsen/
LOCATION:Port Of Spain\, Parque Nicolás Salmeron 20\, Almería\, Almería\, 04002\, España
CATEGORIES:Programación
ATTACH;FMTTYPE=image/jpeg:https://clasijazz.com/wp-content/uploads/2025/12/Pressebillede-e1730378413164.jpg
END:VEVENT
BEGIN:VEVENT
DTSTART;TZID=Europe/Madrid:20260213T180000
DTEND;TZID=Europe/Madrid:20260213T193000
DTSTAMP:20260422T101720
CREATED:20260210T141115Z
LAST-MODIFIED:20260212T193052Z
UID:5762400-1771005600-1771011000@clasijazz.com
SUMMARY:CANCELADO - Taller de Danza K-Pop
DESCRIPTION:Entrada Libre \nSala Swing \n\nES \n¡Únete de nuevo a nuestro cuarto taller de baile de K-pop! Esta vez\, aprenderemos la coreografía de “ASAP” de Stayc. \n¡Todos son bienvenidos\, desde niños hasta adultos! Ya seas principiante o tengas experiencia en el baile\, escuches K-Pop de vez en cuando o seas un superfan\, ¡este taller es para ti! \n¡Asegúrate de llevar ropa cómoda! \n¡Nos vemos!  \n  \n\nENG \nJoin us again for the fourth k-pop dance workshop! This time\, we will be learning the choreography for Stayc’s “ASAP”. \nEveryone is welcome\, from children to adults. Whether you’re a beginner or an experienced dancer\, a casual listener or a K-Pop superfan\, this workshop is for you! \nMake sure to wear comfortable clothes and to bring a bottle of water! \nSee you…ASAP!
URL:https://clasijazz.com/evento/taller-de-danza-k-pop-3/
LOCATION:Sede Clasijazz\, Maestro Serrano 9 \, Almería\, Almería\, 04004\, España
CATEGORIES:Programación
ATTACH;FMTTYPE=image/png:https://clasijazz.com/wp-content/uploads/2026/02/danceclass-8.png
GEO:36.83433;-2.4614249
X-APPLE-STRUCTURED-LOCATION;VALUE=URI;X-ADDRESS=Sede Clasijazz Maestro Serrano 9  Almería Almería 04004 España;X-APPLE-RADIUS=500;X-TITLE=Maestro Serrano 9:geo:-2.4614249,36.83433
END:VEVENT
BEGIN:VEVENT
DTSTART;TZID=Europe/Madrid:20260213T200000
DTEND;TZID=Europe/Madrid:20260213T200000
DTSTAMP:20260422T101720
CREATED:20250926T193800Z
LAST-MODIFIED:20251027T132032Z
UID:5757989-1771012800-1771012800@clasijazz.com
SUMMARY:Entós – PORT OF SPAIN
DESCRIPTION:ENTRADAS\n\n  \nEn 2022\, en un encuentro casual en una sesión folk\, Celia\, Adrián y Javi acuerdan quedar un día para tocar un rato juntos sin más pretensión que pasarlo bien. \nLo que empezó como una simple quedada en el momento se transformó en un proyecto con propósito: intentar ser un eslabón más en la cadena de transmisión de la música tradicional asturiana en su generación\, dándole su propio enfoque y carácter. \nEl trío se compone de violín\, flauta travesera de madera y bouzouki/guitarra\, creando una sonoridad acústica que abraza tanto piezas tradicionales asturianas como composiciones originales. La identidad de «Entós» se sitúa en la intersección entre la tradición y la reinterpretación\, ofreciendo una experiencia musical que conecta pasado y presente. \n  \n \n  \nAdrián J. Argüelles (Uviéu\, 1993)Gaitero desde los 11 años (formado con Santi Caleya) y flautista travesero de madera (alumno de Pepín de Muñalén). Fundador de La Bandina La Garrapiella (disco Esmesando\, 2022) y participante en grupos como Camín de Fierro o Fesoria Les Ortigues. \nCelia Nieto (Candamo\, 2002)Violinista desde los 7 años\, con raíces en la música tradicional y formación clásica. Inició con la Banda de Gaites de Candamo (percusión). Ha tocado en proyectos como Draque (junto a Celia Corrales y Julio Rodríguez)\, Guieldu (2020–2022)\, y festivales como FID’O\, Festival Intercélticu d’Avilés y Sendim (Portugal). Actualmente compagina Entós con Draque y el veterano grupo Corquiéu. \nJavier Menéndez (Avilés\, 1994)Gaitero desde los 8 años\, con título profesional en el Conservatorio de Uviéu. Director musical de la Banda Gaites Villa d’Avilés y miembro de La Bandina La Garrapiella (Esmesando\, 2022). Ha colaborado como gaitero y saxofonista en el disco Libres (2018) de Manitou. Desde 2020 toca bouzouki y guitarra DADGAD\, y con esos instrumentos se integra como cuerdista en Entós. \n  \n\n  \nEl Ciclo Atlántico de Clasijazz es un nuevo ciclo de conciertos y sesiones de música tradicional del arco atlántico que tendrá lugar en Port of Spain y en El Molino de Terque (Clasijazz Rural).  \n  \n  \n 
URL:https://clasijazz.com/evento/entos-port-of-spain/
LOCATION:Port Of Spain\, Parque Nicolás Salmeron 20\, Almería\, Almería\, 04002\, España
CATEGORIES:Ciclo Atlántico,Programación
ATTACH;FMTTYPE=image/jpeg:https://clasijazz.com/wp-content/uploads/2025/09/Entos-2-copy.jpg
END:VEVENT
BEGIN:VEVENT
DTSTART;TZID=Europe/Madrid:20260213T220000
DTEND;TZID=Europe/Madrid:20260213T220000
DTSTAMP:20260422T101720
CREATED:20250927T100921Z
LAST-MODIFIED:20250927T182310Z
UID:5758009-1771020000-1771020000@clasijazz.com
SUMMARY:Sesión Atlántica – PORT OF SPAIN
DESCRIPTION:Entrada libre hasta completar aforo. \n  \nLas Sesiones Atlánticas son un punto de encuentro entre amigos\, músicos invitados y artistas locales\, dentro del nuevo Ciclo Atlántico de Clasijazz: un viaje musical por las tradiciones y los sonidos del arco atlántico. \n  \nVen a disfrutar de esta travesía por las costas del norte a través de un abanico de sonidos emocionante\, evocador y lleno de historias. \n \nEl punto de partida será siempre el repertorio irlandés\, pero la sesión está abierta a todas las tradiciones del arco atlántico (gallega\, escocesa\, asturiana\, bretona\, etc.). En cada edición de la Sesión Atlántica\, la formación invitada aportará los matices y colores propios de su tradición. \nEs una sesión abierta de música estrictamente tradicional en la que cualquier músico puede participar siempre que se estudie la etiqueta básica y el repertorio recomendado en la web de la sesión.
URL:https://clasijazz.com/evento/sesion-atlantica/2026-02-13/
LOCATION:Port Of Spain\, Parque Nicolás Salmeron 20\, Almería\, Almería\, 04002\, España
CATEGORIES:Ciclo Atlántico,Programación
ATTACH;FMTTYPE=image/jpeg:https://clasijazz.com/wp-content/uploads/2025/09/sesion-atlantica-copy-banner-scaled.jpg
END:VEVENT
BEGIN:VEVENT
DTSTART;TZID=Europe/Madrid:20260214T130000
DTEND;TZID=Europe/Madrid:20260214T143000
DTSTAMP:20260422T101720
CREATED:20250928T112311Z
LAST-MODIFIED:20260212T193826Z
UID:5758039-1771074000-1771079400@clasijazz.com
SUMMARY:Entós – «EL MOLINO»
DESCRIPTION:En 2022\, en un encuentro casual en una sesión folk\, Celia\, Adrián y Javi acuerdan quedar un día para tocar un rato juntos sin más pretensión que pasarlo bien. \nLo que empezó como una simple quedada en el momento se transformó en un proyecto con propósito: intentar ser un eslabón más en la cadena de transmisión de la música tradicional asturiana en su generación\, dándole su propio enfoque y carácter. \nEl trío se compone de violín\, flauta travesera de madera y bouzouki/guitarra\, creando una sonoridad acústica que abraza tanto piezas tradicionales asturianas como composiciones originales. La identidad de «Entós» se sitúa en la intersección entre la tradición y la reinterpretación\, ofreciendo una experiencia musical que conecta pasado y presente. \n  \n \n  \nAdrián J. Argüelles (Uviéu\, 1993)Gaitero desde los 11 años (formado con Santi Caleya) y flautista travesero de madera (alumno de Pepín de Muñalén). Fundador de La Bandina La Garrapiella (disco Esmesando\, 2022) y participante en grupos como Camín de Fierro o Fesoria Les Ortigues. \nCelia Nieto (Candamo\, 2002)Violinista desde los 7 años\, con raíces en la música tradicional y formación clásica. Inició con la Banda de Gaites de Candamo (percusión). Ha tocado en proyectos como Draque (junto a Celia Corrales y Julio Rodríguez)\, Guieldu (2020–2022)\, y festivales como FID’O\, Festival Intercélticu d’Avilés y Sendim (Portugal). Actualmente compagina Entós con Draque y el veterano grupo Corquiéu. \nJavier Menéndez (Avilés\, 1994)Gaitero desde los 8 años\, con título profesional en el Conservatorio de Uviéu. Director musical de la Banda Gaites Villa d’Avilés y miembro de La Bandina La Garrapiella (Esmesando\, 2022). Ha colaborado como gaitero y saxofonista en el disco Libres (2018) de Manitou. Desde 2020 toca bouzouki y guitarra DADGAD\, y con esos instrumentos se integra como cuerdista en Entós. \n  \n\n  \nEl Ciclo Atlántico de Clasijazz es un nuevo ciclo de conciertos y sesiones de música tradicional del arco atlántico que tendrá lugar en Port of Spain y en El Molino de Terque (Clasijazz Rural).  \n  \n  \n 
URL:https://clasijazz.com/evento/entos-el-molino/
LOCATION:El Molino – Clasijazz rural\, X9MW+8V\, Terque\, 04569\, España
CATEGORIES:Ciclo Atlántico,Programación
ATTACH;FMTTYPE=image/jpeg:https://clasijazz.com/wp-content/uploads/2025/09/Entos-3.jpeg
END:VEVENT
BEGIN:VEVENT
DTSTART;TZID=Europe/Madrid:20260214T180000
DTEND;TZID=Europe/Madrid:20260214T220000
DTSTAMP:20260422T101720
CREATED:20251215T141231Z
LAST-MODIFIED:20260207T102730Z
UID:5760587-1771092000-1771106400@clasijazz.com
SUMMARY:Mardi Gras Django Fest VII
DESCRIPTION:Sala Industrial | Entrada Libre \n\nComo todos los años celebraremos el MARDI GRAS DJANGO FEST con un pasacalles desde Puerta Purchena a las 17.00 hasta las 18.00 aprox que llegaremos a Clasijazz donde continúa la fiesta en la Sala Industrial hasta las 22:00 \nEn la Sala Industrial músicos de diferentes bandas de Almería tocarán juntos y celebrarán esta fiesta compartiendo su música\, mezclándose entre ellos y (re)interpretando temas tradicionales de Nueva Orleans. ¡Un auténtico Gumbo Ya-Ya musical! \nABELARDO\nLA FUNKERIA\nSARA SOUL\nLA CAUSA SWING\nGATA BRASS BAND\nCOKI BLUES\nSKALEXTRIX\nSWINVERGÜENZAS\nLA CHISMOSERÍA\nLOS QUIJOTES DE LA MARCHA\nLOQUESURJA BRASS BAND \n¡Prepara tu disfraz y ven a disfrutar del carnaval al estilo Nueva Orleans!
URL:https://clasijazz.com/evento/fiesta-mardi-gras/
LOCATION:Sede Clasijazz\, Maestro Serrano 9 \, Almería\, Almería\, 04004\, España
CATEGORIES:Programación,Salón Industrial
ATTACH;FMTTYPE=image/jpeg:https://clasijazz.com/wp-content/uploads/2025/12/Mardi-Gras-Django-VII-2026-min.jpeg
GEO:36.83433;-2.4614249
X-APPLE-STRUCTURED-LOCATION;VALUE=URI;X-ADDRESS=Sede Clasijazz Maestro Serrano 9  Almería Almería 04004 España;X-APPLE-RADIUS=500;X-TITLE=Maestro Serrano 9:geo:-2.4614249,36.83433
END:VEVENT
BEGIN:VEVENT
DTSTART;TZID=Europe/Madrid:20260214T180000
DTEND;TZID=Europe/Madrid:20260214T220000
DTSTAMP:20260422T101720
CREATED:20260203T141645Z
LAST-MODIFIED:20260203T141645Z
UID:5762220-1771092000-1771106400@clasijazz.com
SUMMARY:Disconcierto Gumbo Yaya (Mardi Gras)
DESCRIPTION:Sala Industrial | Entrada Libre
URL:https://clasijazz.com/evento/disconcierto-gumbo-yaya-mardi-gras/
LOCATION:Sede Clasijazz\, Maestro Serrano 9 \, Almería\, Almería\, 04004\, España
CATEGORIES:Programación
ATTACH;FMTTYPE=image/jpeg:https://clasijazz.com/wp-content/uploads/2026/02/WhatsApp-Image-2026-02-03-at-12.39.17.jpeg
GEO:36.83433;-2.4614249
X-APPLE-STRUCTURED-LOCATION;VALUE=URI;X-ADDRESS=Sede Clasijazz Maestro Serrano 9  Almería Almería 04004 España;X-APPLE-RADIUS=500;X-TITLE=Maestro Serrano 9:geo:-2.4614249,36.83433
END:VEVENT
BEGIN:VEVENT
DTSTART;TZID=Europe/Madrid:20260214T200000
DTEND;TZID=Europe/Madrid:20260214T213000
DTSTAMP:20260422T101720
CREATED:20260203T135644Z
LAST-MODIFIED:20260213T162539Z
UID:5762208-1771099200-1771104600@clasijazz.com
SUMMARY:Impro - La Gata Purpura
DESCRIPTION:12€ NS / 5€ S | Sala Swing \n\nEste 14 de febrero\, mientras unos regalan flores que se marchitan en tres días\, nosotros te regalamos una noche de Impro de Des-Amor. Sin guión\, como tus promesas de «voy a cambiar». \nDónde: Clasijazz (Calle Maestro Serrano\, 9\, Almería). \nCuándo: 14 de febrero | 20:00 hrs. \n️ Entradas: www.clasijazz.com (¡Vuelan más rápido que tu ex cuando vio que querías algo serio!). \n  \nTráete tus penas\, que nosotros ponemos las risas. #LaGataPurpura #ImproAlmeria #SanSolterin #Clasijazz
URL:https://clasijazz.com/evento/impro-la-gata-purpura/
LOCATION:Sede Clasijazz\, Maestro Serrano 9 \, Almería\, Almería\, 04004\, España
CATEGORIES:Programación
ATTACH;FMTTYPE=image/jpeg:https://clasijazz.com/wp-content/uploads/2026/02/WhatsApp-Image-2026-02-03-at-13.56.58.jpeg
GEO:36.83433;-2.4614249
X-APPLE-STRUCTURED-LOCATION;VALUE=URI;X-ADDRESS=Sede Clasijazz Maestro Serrano 9  Almería Almería 04004 España;X-APPLE-RADIUS=500;X-TITLE=Maestro Serrano 9:geo:-2.4614249,36.83433
END:VEVENT
BEGIN:VEVENT
DTSTART;TZID=Europe/Madrid:20260214T220000
DTEND;TZID=Europe/Madrid:20260214T233000
DTSTAMP:20260422T101720
CREATED:20251216T182236Z
LAST-MODIFIED:20251229T154726Z
UID:5760623-1771106400-1771111800@clasijazz.com
SUMMARY:Anders Boye Knudsen Quartet
DESCRIPTION:15€ NS / 7€ S | Sala Principal \n\nBio\nEl grupo de Anders Boye Knudsen nos transporta en un viaje musical a través de los bellos paisajes daneses y las enérgicas y salvajes escenas de las capitales europeas.Se trata de un joven cuarteto de jazz contemporáneo liderado por el contrabajista danés Anders Boye\, que interpretará su último EP recientemente publicado\, Alverdens Himmel\, junto a otras composiciones originales y versiones del folclore danés y escandinavo en clave de jazz. \nFormación: \n\nAnders Boye Knudsen – contrabajo (Dinamarca)\nMarcos Merino – piano (España)\nToms Rudzinskis – saxo (Letonia)\nJose Cabello – batería (España)\n\n\nReseñas\n\n“Composiciones originales y bellas melodías\, progresivamente rítmicas y enérgicas que invitan al baile\, otras sosegadas y misteriosas que podrían acompañarte por los bosques. Anders\, siempre con una sonrisa y atenta dedicación\, ha reunido a un cuarteto de músicos talentosos que pasean y disfrutan esos paisajes que Anders pinta en sus composiciones.La noche de ayer tuvo solos que\, más que solitarios\, los hicieron comunitarios\, un gesto de generosidad y empatía entre músicos y público. Público atento\, concentrado y disfrutón\, como sus músicos.” \n\n— Carolina\, directora de Café El Despertar (Madrid)\, octubre 2024 \n\nConciertos destacados anteriores\n\nMunilla Jazz Festival 2025\nBaltic Tour 2024 + 2025 (Riga\, Tallinn\, Vilnius)\nRvbicon\, Santander\nJazz Club Meidinerz\, Gijón\nCafé El Despertar\, Madrid\nClub Matador\, Madrid\nRock & Blues\, Zaragoza\nSupernova Jazz Blast Showcase Band 2024\, Dinamarca\nAarhus Jazz Festival\, Dinamarca\n\n\nLinks y redes sociales\n\nAlverdens Himmel EP – Spotify\nInstagram\nFacebook\nLinktree
URL:https://clasijazz.com/evento/anders-boye-knudsen-quartet/
LOCATION:Sede Clasijazz\, Maestro Serrano 9 \, Almería\, Almería\, 04004\, España
CATEGORIES:Programación
ATTACH;FMTTYPE=image/png:https://clasijazz.com/wp-content/uploads/2025/12/ABK-Quartet-february-2026.png
GEO:36.83433;-2.4614249
X-APPLE-STRUCTURED-LOCATION;VALUE=URI;X-ADDRESS=Sede Clasijazz Maestro Serrano 9  Almería Almería 04004 España;X-APPLE-RADIUS=500;X-TITLE=Maestro Serrano 9:geo:-2.4614249,36.83433
END:VEVENT
BEGIN:VEVENT
DTSTART;TZID=Europe/Madrid:20260214T220000
DTEND;TZID=Europe/Madrid:20260214T233000
DTSTAMP:20260422T101720
CREATED:20260107T162919Z
LAST-MODIFIED:20260107T163235Z
UID:5761344-1771106400-1771111800@clasijazz.com
SUMMARY:San Valentín con Música y Pasión
DESCRIPTION:15€ NS / 7€ S | Port of Spain \n\nSAN VALENTÍN CON MÚSICA\, BAILE Y EMOCIÓN\nUn homenaje al AMOR y a los grandes compositores de la música romántica de siempre. \n✨ Embárcate en un viaje imaginario a través del tiempo\, donde los recuerdos cobran vida y el corazón marca el ritmo. Una noche para celebrar el amor con un espectáculo único\, elegante y apasionante. \n¿QUÉ TE ESPERA? \nConcierto bailable\nUna velada inolvidable junto al pianista y cantante venezolano Marcel Arnalot\, acompañado de Chévere Music Group. \nRitmos internacionales\nUn recorrido por las cunas del Bolero\, la Salsa y la Bachata\, con la esencia musical de\nCuba | Colombia | Puerto Rico | Venezuela \nOpen Mic & Artistas invitados\nSorpresas especiales que harán esta noche aún más mágica. \n\nINFORMACIÓN DEL EVENTO \nPort of Spain\nSábado 14 de febrero\n⏰ 22:00 h\nDirección: Nicolás Salmerón\, 20 \nEntradas:\n• 15 € público general\n• 7 € socios \nVenta de entradas
URL:https://clasijazz.com/evento/san-valentin-con-musica-y-pasion/
LOCATION:Port Of Spain\, Parque Nicolás Salmeron 20\, Almería\, Almería\, 04002\, España
CATEGORIES:Programación
ATTACH;FMTTYPE=image/jpeg:https://clasijazz.com/wp-content/uploads/2026/01/IMG-20260107-WA0002.jpg
END:VEVENT
END:VCALENDAR