
BEGIN:VCALENDAR
VERSION:2.0
PRODID:-//Clasijazz - ECPv6.11.0.1//NONSGML v1.0//EN
CALSCALE:GREGORIAN
METHOD:PUBLISH
X-ORIGINAL-URL:https://clasijazz.com
X-WR-CALDESC:Eventos para Clasijazz
REFRESH-INTERVAL;VALUE=DURATION:PT1H
X-Robots-Tag:noindex
X-PUBLISHED-TTL:PT1H
BEGIN:VTIMEZONE
TZID:Europe/Madrid
BEGIN:DAYLIGHT
TZOFFSETFROM:+0100
TZOFFSETTO:+0200
TZNAME:CEST
DTSTART:20260329T010000
END:DAYLIGHT
BEGIN:STANDARD
TZOFFSETFROM:+0200
TZOFFSETTO:+0100
TZNAME:CET
DTSTART:20261025T010000
END:STANDARD
END:VTIMEZONE
BEGIN:VEVENT
DTSTART;VALUE=DATE:20260217
DTEND;VALUE=DATE:20260224
DTSTAMP:20260423T030734
CREATED:20260216T170513Z
LAST-MODIFIED:20260217T102438Z
UID:5762643-1771290000-1771808399@clasijazz.com
SUMMARY:Residencia artística VETA
DESCRIPTION:VETA\n\n\nVETA es un proyecto de percusión experimental y registro de paisajes sonoros en colaboración con Clasijazz Rural\, que parte de las enseñanzas de Susie Ibarra (Premio Pulitzer 2025) y Jake Landau. \n\n\nCréditos: \n\nCarolina Cebrino – registro sonoro\, percusión y composición\nJavier Amat – asesoría en ingeniería agronómica arborista\nDavid Montero – acompañamiento artístico\nPedro Ernesto Moreno – investigación en paisaje sonoro y arreglos musicales.\n\n \n\nFoto: José Serrano\n\nAgradecimientos: Mª José Martínez y Parque del Alamillo (Sevilla)
URL:https://clasijazz.com/evento/residencia-artistica-veta/
LOCATION:El Molino – Clasijazz rural\, X9MW+8V\, Terque\, 04569\, España
CATEGORIES:Programación
ATTACH;FMTTYPE=image/jpeg:https://clasijazz.com/wp-content/uploads/2026/02/CARTELdefinitivoVETA-scaled.jpg
END:VEVENT
BEGIN:VEVENT
DTSTART;TZID=Europe/Madrid:20260218T220000
DTEND;TZID=Europe/Madrid:20260218T233000
DTSTAMP:20260423T030734
CREATED:20250903T173754Z
LAST-MODIFIED:20250903T173754Z
UID:5764778-1771452000-1771457400@clasijazz.com
SUMMARY:Jam Session
DESCRIPTION:3 € No Soci@ / gratuito Soci@ \nSala Principal \nCada miércoles puedes disfrutar de una Jam Session. Uno de los eventos más seguidos en Almería y por el que han pasado muchísimos músicos y público. ¡Disfruta de esta maravilla de Jam Session!
URL:https://clasijazz.com/evento/jam-session-4/2026-02-18/
LOCATION:Sede Clasijazz\, Maestro Serrano 9 \, Almería\, Almería\, 04004\, España
CATEGORIES:Programación
ATTACH;FMTTYPE=image/jpeg:https://clasijazz.com/wp-content/uploads/2025/09/PANA5800-scaled.jpg
GEO:36.83433;-2.4614249
X-APPLE-STRUCTURED-LOCATION;VALUE=URI;X-ADDRESS=Sede Clasijazz Maestro Serrano 9  Almería Almería 04004 España;X-APPLE-RADIUS=500;X-TITLE=Maestro Serrano 9:geo:-2.4614249,36.83433
END:VEVENT
BEGIN:VEVENT
DTSTART;TZID=Europe/Madrid:20260218T220000
DTEND;TZID=Europe/Madrid:20260219T003000
DTSTAMP:20260423T030734
CREATED:20260122T154219Z
LAST-MODIFIED:20260122T154219Z
UID:5761992-1771452000-1771461000@clasijazz.com
SUMMARY:Jam Session - Especial Mardi Gras
DESCRIPTION:3 € No Soci@ / gratuito Soci@ \nSala Principal \n\nCada miércoles puedes disfrutar de una Jam Session. Uno de los eventos más seguidos en Almería y por el que han pasado muchísimos músicos y público. ¡Disfruta de esta maravilla de Jam Session!
URL:https://clasijazz.com/evento/jam-session-especial-mardi-gras/
LOCATION:Sede Clasijazz\, Maestro Serrano 9 \, Almería\, Almería\, 04004\, España
CATEGORIES:Programación
ATTACH;FMTTYPE=image/jpeg:https://clasijazz.com/wp-content/uploads/2026/01/WhatsApp-Image-2026-01-22-at-10.04.26.jpeg
GEO:36.83433;-2.4614249
X-APPLE-STRUCTURED-LOCATION;VALUE=URI;X-ADDRESS=Sede Clasijazz Maestro Serrano 9  Almería Almería 04004 España;X-APPLE-RADIUS=500;X-TITLE=Maestro Serrano 9:geo:-2.4614249,36.83433
END:VEVENT
BEGIN:VEVENT
DTSTART;TZID=Europe/Madrid:20260219T200000
DTEND;TZID=Europe/Madrid:20260219T213000
DTSTAMP:20260423T030734
CREATED:20260130T143558Z
LAST-MODIFIED:20260130T143558Z
UID:5762107-1771531200-1771536600@clasijazz.com
SUMMARY:Cienciajazz - Nuevas tecnologías aplicadas a la Salud Cardiovascular
DESCRIPTION:Sala Principal | Entrada Libre \n\nCarlos Gómez Navarro. Área de Cardiología del Hospital Universitario Torrecárdenas. \nEn esta charla abordaremos la problemática actual de la salud cardiovascular\, y la perspectiva de las soluciones futuras. \nComenzaremos con un resumen de los avances en la cardiología de los últimos años\, como la hemodinámica y el tratamiento percutáneo invasivo de la cardiopatía isquémica y los nuevos tratamientos para el recambio valvular sin cirugía abierta; el tratamiento de la hipercolesterolemia con inyectables basados en anticuerpos monoclonales y en terapias de ARN mensajero\, y el uso de las técnicas de imagen\, como la Resonancia Magnética cardíaca\, que permite discriminar la «calidad» del tejido miocárdico. \nPero nos centraremos sobre todo en dos aspectos fundamentales: \nEl diagnóstico y tratamiento de las arritmias. El desarrollo de tecnología diagnóstica (smartwatches\, wereables\, tecnología inalámbrica)\, de tratamiento (navegación magnética cardíaca para ablación de las arritmias\, dispositivos vasculares intracardíacos\, …) \nLa genética de las enfermedades cardiovasculares. Los descubrimientos en el origen de algunas enfermedades monogénicas productoras de enfermedad cardíaca y muerte súbita (tratamientos a medida\, edición genética\, …).
URL:https://clasijazz.com/evento/cienciajazz-nuevas-tecnologias-aplicadas-a-la-salud-cardiovascular/
LOCATION:Sede Clasijazz\, Maestro Serrano 9 \, Almería\, Almería\, 04004\, España
CATEGORIES:Programación
ATTACH;FMTTYPE=image/png:https://clasijazz.com/wp-content/uploads/2026/01/cienciajazz.png
GEO:36.83433;-2.4614249
X-APPLE-STRUCTURED-LOCATION;VALUE=URI;X-ADDRESS=Sede Clasijazz Maestro Serrano 9  Almería Almería 04004 España;X-APPLE-RADIUS=500;X-TITLE=Maestro Serrano 9:geo:-2.4614249,36.83433
END:VEVENT
BEGIN:VEVENT
DTSTART;TZID=Europe/Madrid:20260219T210000
DTEND;TZID=Europe/Madrid:20260219T230000
DTSTAMP:20260423T030734
CREATED:20250929T114658Z
LAST-MODIFIED:20260401T173307Z
UID:5761360-1771534800-1771542000@clasijazz.com
SUMMARY:Intercambio de Idiomas
DESCRIPTION:Sala Industrial Clasijazz \nEntrada Libre \n\n¿Quieres conocer gente nueva y compartir ideas\, experiencias y opiniones mientras practicas tus habilidades lingüísticas? \n¡Hablaremos de todo: culturas\, profesiones\, arte y música! \n¿Nivel avanzado? ¿Intermedio? ¿Principiante? ¡Hay espacio para todos! \nÚnete a la comunidad del Intercambio de Idiomas y deja que la magia deja que la magia de los idiomas te atrape. \nDesde Octubre y todos los jueves 21:00-23:00
URL:https://clasijazz.com/evento/intercambio-de-idiomas-5/2026-02-19/
LOCATION:Clasijazz\, C/Maestro Serrano nº9\, Almería\, 04004
CATEGORIES:Programación
ATTACH;FMTTYPE=image/jpeg:https://clasijazz.com/wp-content/uploads/2025/09/Intercambio-de-Idiomas.jpg
GEO:36.8366538;-2.4610327
X-APPLE-STRUCTURED-LOCATION;VALUE=URI;X-ADDRESS=Clasijazz C/Maestro Serrano nº9 Almería 04004;X-APPLE-RADIUS=500;X-TITLE=C/Maestro Serrano nº9:geo:-2.4610327,36.8366538
END:VEVENT
BEGIN:VEVENT
DTSTART;TZID=Europe/Madrid:20260219T220000
DTEND;TZID=Europe/Madrid:20260219T233000
DTSTAMP:20260423T030734
CREATED:20260102T095647Z
LAST-MODIFIED:20260102T095647Z
UID:5762557-1771538400-1771543800@clasijazz.com
SUMMARY:Jam Jazz - Port of Spain
DESCRIPTION:Port of Spain \nEntrada libre \nOtra apasionante Jam Sesión dirigida por Paco Posada Quartet. \nNo os lo perdais . Noche de  Standards
URL:https://clasijazz.com/evento/jam-jazz-port-of-spain/2026-02-19/
LOCATION:Port Of Spain\, Parque Nicolás Salmeron 20\, Almería\, Almería\, 04002\, España
CATEGORIES:Port Of Spain,Programación
ATTACH;FMTTYPE=image/jpeg:https://clasijazz.com/wp-content/uploads/2026/01/WhatsApp-Image-2026-01-02-at-09.43.14.jpeg
END:VEVENT
BEGIN:VEVENT
DTSTART;TZID=Europe/Madrid:20260220T180000
DTEND;TZID=Europe/Madrid:20260220T190000
DTSTAMP:20260423T030734
CREATED:20260114T173102Z
LAST-MODIFIED:20260305T211941Z
UID:5761744-1771610400-1771614000@clasijazz.com
SUMMARY:Mini Jam
DESCRIPTION:Entrada Libre | Sala Industrial \n\nQue importantes son las Mini Jams en Clasijazz. Generaciones se han criado con música y cantando desde chicos . Aquí tenéis todas las de este curso . Son gratuitas pero si quieres hacerte socio nos ayudarás a seguir con la ilusión por predicar la música para todas las edades.
URL:https://clasijazz.com/evento/mini-jam/2026-02-20/
LOCATION:Sede Clasijazz\, Maestro Serrano 9 \, Almería\, Almería\, 04004\, España
CATEGORIES:Programación
ATTACH;FMTTYPE=image/jpeg:https://clasijazz.com/wp-content/uploads/2026/01/PANA3644-scaled.jpg
GEO:36.83433;-2.4614249
X-APPLE-STRUCTURED-LOCATION;VALUE=URI;X-ADDRESS=Sede Clasijazz Maestro Serrano 9  Almería Almería 04004 España;X-APPLE-RADIUS=500;X-TITLE=Maestro Serrano 9:geo:-2.4614249,36.83433
END:VEVENT
BEGIN:VEVENT
DTSTART;TZID=Europe/Madrid:20260220T200000
DTEND;TZID=Europe/Madrid:20260220T220000
DTSTAMP:20260423T030734
CREATED:20260128T185540Z
LAST-MODIFIED:20260128T185540Z
UID:5762062-1771617600-1771624800@clasijazz.com
SUMMARY:Casting - All Star Talent Festival
DESCRIPTION:Port of Spain – Entrada Libre \n\n CASTING · ALL STARS TALENT FESTIVAL \n 20 de Febrero\n 20:00 h\n Port Of Spain – Almería \n¿Eres cantante\, monologuista\, mago\, ilusionista o artista escénico?\nEsta es tu oportunidad de formar parte del All Stars Talent Festival. \n⚠️ IMPORTANTE\nAntes del casting presencial es OBLIGATORIO realizar un pre-casting online. \n ¿Cómo participar? \n1️⃣ Contacta por WhatsApp\n 633 120 150 / 686 273 681 ó\n Registro online:\nwww.allstarstalentfestival.com\nwww.caststars.tv\n2️⃣ Envía tus datos\, fotos y vídeo\n3️⃣ Si eres preseleccionado/a\, recibirás cita previa para el casting presencial. \n Casting delante de cámara y público\n Entrada libre\n✨ Vive una experiencia artística única
URL:https://clasijazz.com/evento/casting-all-star-talent-festival/
LOCATION:Port Of Spain\, Parque Nicolás Salmeron 20\, Almería\, Almería\, 04002\, España
CATEGORIES:Programación
ATTACH;FMTTYPE=image/jpeg:https://clasijazz.com/wp-content/uploads/2026/01/IMG-20260128-WA0007.jpg
END:VEVENT
BEGIN:VEVENT
DTSTART;TZID=Europe/Madrid:20260220T210000
DTEND;TZID=Europe/Madrid:20260220T223000
DTSTAMP:20260423T030734
CREATED:20260103T165412Z
LAST-MODIFIED:20260103T165412Z
UID:5761242-1771621200-1771626600@clasijazz.com
SUMMARY:Élia Bastida Trío "Aquarela"
DESCRIPTION:20 € NS / 10 € S \nSala Principal \nMuchas ganas de que venga por fin Elia Bastida \, una violinista única\, y con tan pocos violinistas en el mundo que se dediquen al violin jazz. Y con nuestro querido Joan Chamorro \, máxima referencia del Jazz y la Big Band director de la Sant Andreu Big Band galardonada en los premios Duke Ellington en Nueva York y el gran guitarrista Josep Traver nos visitan a Clasijazz.\n\nÈlia Bastida\, violín\, saxo y voz\nJosep Traver\, guitarra\nJoan Chamorro\, contrabajo\n  \n\nEl sexto álbum de Èila Bastida. Después de su exitoso disco “Tribute to Stéphane Grappelli”\, este nuevo disco surgido de la necesidad de hacer un proyecto donde muestre todos los colores que forman su paleta musical. Es un disco que parte del violín y del jazz\, sin dejar de lado su faceta de saxofonista y cantante\, que también son una parte importante de su vida como músico. De aquí viene el título de este proyecto “Aquarela”\, donde los colores de su universo brillan en su totalidad\, expandiéndose también con algunos temas de composición propia y pasando por varios estilos musicales como jazz\, bossa nova\, bolero y tango\, entre otros
URL:https://clasijazz.com/evento/elia-bastida-trio-aquarela/
LOCATION:Sede Clasijazz\, Maestro Serrano 9 \, Almería\, Almería\, 04004\, España
CATEGORIES:Programación
ATTACH;FMTTYPE=image/jpeg:https://clasijazz.com/wp-content/uploads/2026/01/Elia-Bastida-Trio_03-scaled.jpg
GEO:36.83433;-2.4614249
X-APPLE-STRUCTURED-LOCATION;VALUE=URI;X-ADDRESS=Sede Clasijazz Maestro Serrano 9  Almería Almería 04004 España;X-APPLE-RADIUS=500;X-TITLE=Maestro Serrano 9:geo:-2.4614249,36.83433
END:VEVENT
BEGIN:VEVENT
DTSTART;TZID=Europe/Madrid:20260220T220000
DTEND;TZID=Europe/Madrid:20260220T233000
DTSTAMP:20260423T030734
CREATED:20260203T140210Z
LAST-MODIFIED:20260203T140210Z
UID:5762215-1771624800-1771630200@clasijazz.com
SUMMARY:Carnaval Karaoke - Port of Spain
DESCRIPTION:Port of Spain | Entrada Libre \n\n CARNAVAL KARAOKE – JAM WITH US ✨ \nAfter Casting Party \n Viernes 20 de febrero\n Desde las 22:00 h\n Port Of Spain · Almería \nTras el casting oficial… ¡seguimos la fiesta!\nLlega una noche única de Karaoke Internacional + Open Mic + Jam Session\, en un ambiente multitemático y carnavalero\, inspirado en el Carnaval de Venecia. \n Ven con máscara\, colores\, brillo o disfraz\n Canta\, improvisa\, comparte escenario\n Idiomas\, estilos y culturas mezcladas\n✨ Diversión\, música y buen rollo asegurados \nJam With Us\n Micrófono abierto\n Karaoke para todos\n Vive la experiencia \n Más info:\n@AllStarsTalentFestival\n 633 120 150 · 686 273 681 \n¡El talento no tiene límites!\nDéjate sorprender
URL:https://clasijazz.com/evento/carnaval-karaoke-port-of-spain/
LOCATION:Port Of Spain\, Parque Nicolás Salmeron 20\, Almería\, Almería\, 04002\, España
CATEGORIES:Programación
ATTACH;FMTTYPE=image/jpeg:https://clasijazz.com/wp-content/uploads/2026/02/Captura-de-pantalla-2026-02-03-150034.jpg
END:VEVENT
BEGIN:VEVENT
DTSTART;TZID=Europe/Madrid:20260221T140000
DTEND;TZID=Europe/Madrid:20260221T160000
DTSTAMP:20260423T030734
CREATED:20260210T123445Z
LAST-MODIFIED:20260210T123935Z
UID:5762395-1771682400-1771689600@clasijazz.com
SUMMARY:Ciclo "Plant Based\, Baby" - WINTER MENU
DESCRIPTION:Menú degustación el Sábado\, 21 de Febrero\, de 14:00h a 16:00h\, 25€ persona\, necesario reserva anticipada en www.clasijazz.com \nEntranteBruschetta de espinacas\, champiñones y keso con zanahorias glaseadas \nPrimeroBorsh reconfortante con veganesa de eneldo \nSegundoCanelones de Heüra y espárragos con bechamel de coliflor y almendras \nPostrePudding proteico de vainilla\, chocolate y galleta \n2 bebidas incluidas Café – Tertulia a las 16:00h\, acceso libre «Experiencias Antiespecistas» con la participación de la Asamblea Antiespecista de Almería \n¡Plazas limitadas! ¡Reserva antes de que se agoten!Clasijazz – C/ Maestro Serrano\, 9\, Almería
URL:https://clasijazz.com/evento/ciclo-plant-based-baby-winter-menu/
LOCATION:Sede Clasijazz\, Maestro Serrano 9 \, Almería\, Almería\, 04004\, España
CATEGORIES:Programación
ATTACH;FMTTYPE=image/jpeg:https://clasijazz.com/wp-content/uploads/2026/02/WhatsApp-Image-2026-02-10-at-09.59.05.jpeg
GEO:36.83433;-2.4614249
X-APPLE-STRUCTURED-LOCATION;VALUE=URI;X-ADDRESS=Sede Clasijazz Maestro Serrano 9  Almería Almería 04004 España;X-APPLE-RADIUS=500;X-TITLE=Maestro Serrano 9:geo:-2.4614249,36.83433
END:VEVENT
BEGIN:VEVENT
DTSTART;TZID=Europe/Madrid:20260221T180000
DTEND;TZID=Europe/Madrid:20260221T220000
DTSTAMP:20260423T030734
CREATED:20250824T081330Z
LAST-MODIFIED:20260128T202457Z
UID:5762072-1771696800-1771711200@clasijazz.com
SUMMARY:Dj Eli & David Rockin - Port of Spain
DESCRIPTION:Port of Spain \nEntrada Libre \nDj Eli & David Rockin\nEli y David se baten en un duelo de vinilos al más puro estilo rock’n’roll\, rithm & blues\, soul\, ska… No te lo puedes perder
URL:https://clasijazz.com/evento/dj-eli-david-rockin-port-of-spain-8/2026-02-21/
LOCATION:Port Of Spain\, Parque Nicolás Salmeron 20\, Almería\, Almería\, 04002\, España
CATEGORIES:Programación
ATTACH;FMTTYPE=image/jpeg:https://clasijazz.com/wp-content/uploads/2025/08/Gemini_Generated_Image_7452c57452c57452.jpg
END:VEVENT
BEGIN:VEVENT
DTSTART;TZID=Europe/Madrid:20260221T190000
DTEND;TZID=Europe/Madrid:20260221T200000
DTSTAMP:20260423T030734
CREATED:20260110T195520Z
LAST-MODIFIED:20260110T195520Z
UID:5761570-1771700400-1771704000@clasijazz.com
SUMMARY:Compañía danza mobile/Compañía Álvaro Silvag - Ciclo de Danza
DESCRIPTION:12 € NS / 5 € S \nSala Principal \nLA COMPAÑÍA\nLa Compañía Danza Mobile comenzó su andadura profesional en el año 2001 siendo\nactualmente referente en el panorama profesional con una destacada proyección nacional e\ninternacional.\nDesde la primera puesta en escena\, se han producido 25 espectáculos con los que se han \nrealizado más de 500 representaciones. En la consecución de este objetivo ha sido funda-\nmental la unión de una serie de profesionales del mundo de las artes escénicas. Alrededor de \n60 profesionales han colaborado con Danza Mobile en todo este tiempo.\nAsimismo\, los montajes desarrollados por la Compañía han girado en circuitos \nnacionales\, autonómicos\, así como locales. También ha participado en festivales y programa-\nciones como Mes de Danza\, Forum de Barcelona\, la Bienal de Flamenco de Sevilla\, Festival \nde Música y Danza de Granada\, Festival Eclèctic de Tarragona o el Festival 10Sentidos de\nValencia\, entre otros. Y ha estado presente en diferentes muestras y programaciones del\nReino Unido\, Alemania\, Jordania\, Italia\, Suiza\, Francia\, Holanda\, Turquía\, Rusia\, Gales\, Bélgica\ny Marruecos.\nDe igual forma\, Danza Mobile ha obtenido numerosos premios en sus 15 años de bagaje\, por\nel trabajo específico de muchas de sus producciones escénicas y también porque ha marcado\nhitos en cuanto a inserción laboral y social se refiere. Como el Premio Dionisos a proyectos\nteatrales con repercusión social\, otorgado por UNESCO-Comunidad de Madrid (2012)\, el\nPremio Andaluz a las Buenas Prácticas en la Atención a las personas con discapacidad de la\nConsejería para la Igualdad y el Bienestar Social de la Junta de Andalucía (2010)\, el Premio\n‘Solidaridad’ de la Unión de Actores e Intérpretes de Andalucía (2010)\, el Premio Mayte de\nTeatro a la Normalización de la discapacidad en el Teatro (2007)\, entre otros.\nDanza Mobile es actualmente un referente en el ámbito de la danza contemporánea inclusiva\ninternacional. \nSobre la Pieza \nLa belleza en la conversación de las sobre la pieza\nmanos es un intercambio de ritmos\,\npasos y la pasión por bailar con otras\npersonas. La hermosa conversación\nde las manos toma la historia del baile\ntradicional en pareja\, compañero/a de\nbaile\, y redefine algo que podría ser más\napropiado para la era moderna\,\nsiguiendo la influencia de la danza\ncontemporánea\, la improvisación\,\nel intercambio de géneros y centrándose\nen derechos más amplios para todos.\nLiderar o ser liderado puede ser tomado\npor ambos y compartido.\nLos roles no están divididos por géneros\npreferentes. La verticalidad y\n“cordialidad” están afuera\, así que\ntambién los intérpretes pueden estar en\ndiferentes niveles y moverse sobre el\nsuelo con diferentes partes del cuerpo.\nPero el baile de pareja mantuvo la\nestructura de que en todo momento se\nmantiene un contacto con las manos.\nPero ellas pueden intercambiarse según\nlas necesidades y direcciones de los\nintérpretes. ¿La mantendremos\nnosotros? \n  \nTitular de todos los derechos
URL:https://clasijazz.com/evento/compania-danza-mobile-compania-alvaro-silvag-ciclo-de-danza/
LOCATION:Sede Clasijazz\, Maestro Serrano 9 \, Almería\, Almería\, 04004\, España
CATEGORIES:Programación
ATTACH;FMTTYPE=image/png:https://clasijazz.com/wp-content/uploads/2026/01/Captura-de-pantalla-2026-01-10-a-las-20.48.36.png
GEO:36.83433;-2.4614249
X-APPLE-STRUCTURED-LOCATION;VALUE=URI;X-ADDRESS=Sede Clasijazz Maestro Serrano 9  Almería Almería 04004 España;X-APPLE-RADIUS=500;X-TITLE=Maestro Serrano 9:geo:-2.4614249,36.83433
END:VEVENT
BEGIN:VEVENT
DTSTART;TZID=Europe/Madrid:20260222T110000
DTEND;TZID=Europe/Madrid:20260222T123000
DTSTAMP:20260423T030734
CREATED:20260214T222252Z
LAST-MODIFIED:20260214T222445Z
UID:5762560-1771758000-1771763400@clasijazz.com
SUMMARY:Taller y muestra interactiva de arte solar botánico y biosonificación - "El Molino" Clasijazz Rural
DESCRIPTION:«El Molino» Clasijazz Rural \nEntrada Libre \n  \n  \nPASOS (in)COMUNES: Acercándonos a Almócita \nTaller y muestra interactiva de arte solar botánico y biosonificación \nInterser: arte solar botánico y biosonificación. \nAlberto Jiménez-Gómez y María Vela-Campoy (Ajo Social\, Cooperativa almociteña) nos invitan a reconectar con la biodiversidad a través de los sentidos. \nNarrarán e ilustrarán su experiencia como residentes artísticos del Clasijazz rural y nos invitarán a reconocer la biodiversidad multifuncional del Molino y a interser con ella. \nExploraremos la huella vegetal sobre papel y sobre ondas sonoras\, en un taller interactivo de arte botánico solar y musical. \nInterser es una invitación radical a cambiar nuestra mirada sobre los seres vegetales\, sus ciclos y nuestra interdependencia mutua. Una invitación a incluir la práctica artística y la reconexión vegetal en lo cotidiano como clave para mantener vivas nuestras ganas de futuro.
URL:https://clasijazz.com/evento/taller-y-muestra-interactiva-de-arte-solar-botanico-y-biosonificacion/
LOCATION:Molino de Terque\, Molino de la Cuesta \, Paraje Frente al Pueblo\, Terque\, Terque\, 04569\, España
CATEGORIES:Programación
ATTACH;FMTTYPE=image/png:https://clasijazz.com/wp-content/uploads/2026/02/AjoSocial.png
END:VEVENT
BEGIN:VEVENT
DTSTART;TZID=Europe/Madrid:20260222T120000
DTEND;TZID=Europe/Madrid:20260222T131500
DTSTAMP:20260423T030734
CREATED:20260129T173634Z
LAST-MODIFIED:20260129T173710Z
UID:5762086-1771761600-1771766100@clasijazz.com
SUMMARY:Orquesta FIMA - Sinfonías 25\, 29 y Concierto para Trompa y Orquesta Nº 2 - Integral de Mozart
DESCRIPTION:12 € NS / 5 € S \nSala Principal \nOtra vez a la carga con la Integral de Mozart !! Este segundo concierto del año va a ser increíble con un programa precioso de dos sinfonías únicas y también con la interpretación del Concierto de Trompa Nº 2 pero con la excepcionalidad de ser Trompa Natural\, un instrumento muy difícil de ver y de una dificultad impresionante que interpretará Miguel Ángel Curiel .\nEl concierto estará dirigido por el gran y reconocido director y concertino Abelardo Martín . \nEl Concierto para trompa n.º 2 en mi bemol mayor\, K. 417\, fue completado el 27 de mayo de  1783. \nEl destinatario de este concierto es Joseph Leutgeb\, trompista austríaco que mantuvo una gran amistad con la familia Mozart. En una crónica del Mercure de France de 1770 se dice de él que “tiene tal maestría para tocar su instrumento que podía cantar los adagios con tanta perfección como sólo las más suaves\, interesantes y precisas voces eran capaces de hacerlo”. Así mismo\, Mozart le dedicó los conciertos K412\, K447 y K495 y el quinteto para trompa y cuerdas K407. \nEn esta ocasión el concierto será interpretado con trompa natural\, sin válvulas ni mecanismos\, como la que se utilizaba en la época de Mozart. \nLa obra consta de tres movimientos: \n\nI. Allegro maestoso.\nII. Andante.\nIII. Rondó Più allegro.\n\nLa Sinfonía n.º 25 en sol menor\, K. 183/173dB\, también conocida como “Pequeña sinfonía en sol menor”\, fue compuesta por Wolfgang Amadeus Mozart en octubre de 1773\, cuando el compositor tenía diecisiete años. \nEl sobrenombre «Pequeña sinfonía en sol menor» se emplea para distinguirla de la «Gran sinfonía en sol menor»\, que es la Sinfonía n.º 40 compuesta en la misma tonalidad. Estas dos son las únicas sinfonías que compuso Mozart en modo menor\, quizás con la única excepción de una temprana sinfonía en la menor\, de autenticidad discutida y conocida como la Sinfonía Odense. \nLa Sinfonía n.º 29 en la mayor\, K. 201/186a fue compuesta por Wolfgang Amadeus Mozart y fechada el 6 de abril de 1774\, cuando el compositor tenía dieciocho años. \nEsta es una etapa de la vida del compositor carente de detalles documentales. Hasta diciembre\, fecha en la que viajó a Múnich para supervisar el inminente estreno de su ópera bufa La finta giardiniera\, pasó todo el año en Salzburgo y por tanto no existen cartas a familiares de estas fechas. Finalmente fue contratado como concertino (junto a Michael Haydn\, hermano del más célebre Joseph Haydn) de la corte de Salzburgo.  \n  \nLa plantilla de músicos de la Orquesta FIMA será: \nViolines  \nAberlardo Martín – director concertino  \nPaula Martín  \nNerea Prieto \nLidia Fernández \nÁlvaro Mérida \nElia Berdala  \nLucía Lorente \nMaría Victoria Ubago \nSilvia Guillén  \n  \nViolas \nSoraya Lúa  \nAna Isabel Blanco \nBerta Rodríguez  \n  \nCellos  \nBlanca Martín \nJuan Tripiana \nCarmen Ballesteros  \n  \nContrabajo  \nAndrea Alonso \n  \n Oboes: \nSheila Alcalá Cervera \nEmilio Curiel Ubago  \n  \nTrompas: \nMiguel Ángel Curiel Palomares  \nJoaquín Góngora Blanes \nMónica Garrido Ibáñez  \nDavid Pérez Briceño \nFagot: \nMiguel Ángel Curiel Palomares \nDavid Ferre \n 
URL:https://clasijazz.com/evento/orquesta-fima-sinfonias-25-29-y-concierto-para-trompa-y-orquesta-no-2-integral-de-mozart/
LOCATION:Sede Clasijazz\, Maestro Serrano 9 \, Almería\, Almería\, 04004\, España
CATEGORIES:Programación
ATTACH;FMTTYPE=image/jpeg:https://clasijazz.com/wp-content/uploads/2026/01/fima8.jpg
GEO:36.83433;-2.4614249
X-APPLE-STRUCTURED-LOCATION;VALUE=URI;X-ADDRESS=Sede Clasijazz Maestro Serrano 9  Almería Almería 04004 España;X-APPLE-RADIUS=500;X-TITLE=Maestro Serrano 9:geo:-2.4614249,36.83433
END:VEVENT
BEGIN:VEVENT
DTSTART;TZID=Europe/Madrid:20260222T130000
DTEND;TZID=Europe/Madrid:20260222T143000
DTSTAMP:20260423T030734
CREATED:20260218T130352Z
LAST-MODIFIED:20260218T130352Z
UID:5762597-1771765200-1771770600@clasijazz.com
SUMMARY:Pasos (in)comunes: Almócita. Concierto Trío Aloha + Tapa Trotamundos Animado - "El Molino" Clasijazz Rural
DESCRIPTION:«El Molino» Clasijazz Rural \n5 euros No Socias/os _ 3 euros Socias/os \n  \n  \nPasos (in)comunes: Almócita \n Concierto Trío Aloha + Tapa Trotamundos Animado + Cerveza Artesanal \n 
URL:https://clasijazz.com/evento/pasos-incomunes-almocita-concierto-trio-aloha-tapa-trotamundos-animado-el-molino-clasijazz-rural/
LOCATION:Molino de Terque\, Molino de la Cuesta \, Paraje Frente al Pueblo\, Terque\, Terque\, 04569\, España
CATEGORIES:Programación
ATTACH;FMTTYPE=image/png:https://clasijazz.com/wp-content/uploads/2026/02/Aloha.png
END:VEVENT
BEGIN:VEVENT
DTSTART;TZID=Europe/Madrid:20260222T180000
DTEND;TZID=Europe/Madrid:20260222T193000
DTSTAMP:20260423T030734
CREATED:20260110T195807Z
LAST-MODIFIED:20260110T195807Z
UID:5761577-1771783200-1771788600@clasijazz.com
SUMMARY:Variaciones
DESCRIPTION:Entrada Libre \nSala Principal \nEl grupo musical VARIACIONES celebrará un concierto especial con entrada gratuita en la sala principal de CLASIJAZZ en Almería el día domingo 22 de febrero de 2026 a las 18.00 horas. \nVARIACIONES tocará versiones de los grupos más míticos de los años 60 y 70\, así como algunos temas de décadas posteriores. \nEl grupo VARIACIONES está compuesto actualmente por las siguientes personas. \n                        Antonio López Berenguer\, al bajo.  \n                        Paco Góngora\, a la guitarra y voz. \n                        Rafa Díaz\, a los teclados.   \n                        Justo Porras\, a la voz y guitarras \n                        Francisco Tortosa\, a la batería
URL:https://clasijazz.com/evento/variaciones-2/
LOCATION:Sede Clasijazz\, Maestro Serrano 9 \, Almería\, Almería\, 04004\, España
CATEGORIES:Programación
ATTACH;FMTTYPE=image/jpeg:https://clasijazz.com/wp-content/uploads/2026/01/WhatsApp-Image-2026-01-09-at-00.03.06.jpeg
GEO:36.83433;-2.4614249
X-APPLE-STRUCTURED-LOCATION;VALUE=URI;X-ADDRESS=Sede Clasijazz Maestro Serrano 9  Almería Almería 04004 España;X-APPLE-RADIUS=500;X-TITLE=Maestro Serrano 9:geo:-2.4614249,36.83433
END:VEVENT
END:VCALENDAR