
BEGIN:VCALENDAR
VERSION:2.0
PRODID:-//Clasijazz - ECPv6.11.0.1//NONSGML v1.0//EN
CALSCALE:GREGORIAN
METHOD:PUBLISH
X-ORIGINAL-URL:https://clasijazz.com
X-WR-CALDESC:Eventos para Clasijazz
REFRESH-INTERVAL;VALUE=DURATION:PT1H
X-Robots-Tag:noindex
X-PUBLISHED-TTL:PT1H
BEGIN:VTIMEZONE
TZID:Europe/Madrid
BEGIN:DAYLIGHT
TZOFFSETFROM:+0100
TZOFFSETTO:+0200
TZNAME:CEST
DTSTART:20260329T010000
END:DAYLIGHT
BEGIN:STANDARD
TZOFFSETFROM:+0200
TZOFFSETTO:+0100
TZNAME:CET
DTSTART:20261025T010000
END:STANDARD
END:VTIMEZONE
BEGIN:VEVENT
DTSTART;TZID=Europe/Madrid:20260304T220000
DTEND;TZID=Europe/Madrid:20260304T233000
DTSTAMP:20260420T041407
CREATED:20250903T173754Z
LAST-MODIFIED:20260328T191141Z
UID:5757054-1772661600-1772667000@clasijazz.com
SUMMARY:Jam Session
DESCRIPTION:3 € No Soci@ / gratuito Soci@ \nSala Principal \nCada miércoles puedes disfrutar de una Jam Session. Uno de los eventos más seguidos en Almería y por el que han pasado muchísimos músicos y público. ¡Disfruta de esta maravilla de Jam Session!
URL:https://clasijazz.com/evento/jam-session-4/2026-03-04/
LOCATION:Sede Clasijazz\, Maestro Serrano 9 \, Almería\, Almería\, 04004\, España
CATEGORIES:Programación
ATTACH;FMTTYPE=image/jpeg:https://clasijazz.com/wp-content/uploads/2025/09/PANA5800-scaled.jpg
GEO:36.83433;-2.4614249
X-APPLE-STRUCTURED-LOCATION;VALUE=URI;X-ADDRESS=Sede Clasijazz Maestro Serrano 9  Almería Almería 04004 España;X-APPLE-RADIUS=500;X-TITLE=Maestro Serrano 9:geo:-2.4614249,36.83433
END:VEVENT
BEGIN:VEVENT
DTSTART;TZID=Europe/Madrid:20260305T120000
DTEND;TZID=Europe/Madrid:20260305T133000
DTSTAMP:20260420T041407
CREATED:20260302T002027Z
LAST-MODIFIED:20260304T092411Z
UID:5763169-1772712000-1772717400@clasijazz.com
SUMMARY:COLPIT. Saxo Solo_Carles Medina - Museos de Terque
DESCRIPTION:Clasijazz Rural \nMuseos de Terque \n  \n5 euros No Socias/os_Gratis Socias/os y residentes Terque \nVISITA A LOS MUSEOS DE TERQUE + CONCIERTO \n  \n  \nCOLPIT: Concierto Saxo Solo_Carles Medina \nPuesta en común-Muestra sonora de la residencia artística del saxofonista Carles Medina realizada en «El Molino» Clasijazz Rural. \n  \nCOLPIT\nCarles Medina es un músico y saxofonista mallorquín\, que en esta ocasión se sumerge en su vertiente más visceral e intima: COLPIT.\nEl proyecto nace en las cuevas de la zona de Portocolom de Mallorca\, donde el saxofonista iba a soñar y a tocar el instrumento cuando empezaba su viaje con la música. En ese\ncaso se trata de cuevas cerca del mar\, donde dialogan el silencio y el agua.\nDespués de ganar experiencia con el instrumento en años de estudio y de tocar muchísimos estilos diferentes\, el músico se propone retomar el proyecto\, en un diálogo con las cuevas\nde Terque.\nColpit nace de un viaje hacia la búsqueda de la propia voz\, de los orígenes y de lo antiguo\, sin ningún tipo de prejuicio ni premisa; sencillamente la conexión entre el músico y su instrumento. \nJueves 5 de marzo a partir de las 12h\, durante la maravillosa visita a los Museos de Terque. \n5€ – Entrada Museos de Terque\nGratis socias/os y residentes Terque
URL:https://clasijazz.com/evento/concierto-en-los-museos-saxo-solo_carles-medina-clasijazz-rural/
LOCATION:Museos de Terque\, Terque
CATEGORIES:Programación
ATTACH;FMTTYPE=image/jpeg:https://clasijazz.com/wp-content/uploads/2026/03/WhatsApp-Image-2026-03-03-at-10.19.41.jpeg
END:VEVENT
BEGIN:VEVENT
DTSTART;TZID=Europe/Madrid:20260305T210000
DTEND;TZID=Europe/Madrid:20260305T230000
DTSTAMP:20260420T041407
CREATED:20250929T114658Z
LAST-MODIFIED:20260401T173309Z
UID:5763396-1772744400-1772751600@clasijazz.com
SUMMARY:Intercambio de Idiomas
DESCRIPTION:Sala Industrial Clasijazz \nEntrada Libre \n\n¿Quieres conocer gente nueva y compartir ideas\, experiencias y opiniones mientras practicas tus habilidades lingüísticas? \n¡Hablaremos de todo: culturas\, profesiones\, arte y música! \n¿Nivel avanzado? ¿Intermedio? ¿Principiante? ¡Hay espacio para todos! \nÚnete a la comunidad del Intercambio de Idiomas y deja que la magia deja que la magia de los idiomas te atrape. \nDesde Octubre y todos los jueves 21:00-23:00
URL:https://clasijazz.com/evento/intercambio-de-idiomas-5/2026-03-05/
LOCATION:Clasijazz\, C/Maestro Serrano nº9\, Almería\, 04004
CATEGORIES:Programación
ATTACH;FMTTYPE=image/jpeg:https://clasijazz.com/wp-content/uploads/2025/09/Intercambio-de-Idiomas.jpg
GEO:36.8366538;-2.4610327
X-APPLE-STRUCTURED-LOCATION;VALUE=URI;X-ADDRESS=Clasijazz C/Maestro Serrano nº9 Almería 04004;X-APPLE-RADIUS=500;X-TITLE=C/Maestro Serrano nº9:geo:-2.4610327,36.8366538
END:VEVENT
BEGIN:VEVENT
DTSTART;TZID=Europe/Madrid:20260305T220000
DTEND;TZID=Europe/Madrid:20260305T235500
DTSTAMP:20260420T041407
CREATED:20250823T171334Z
LAST-MODIFIED:20260318T170611Z
UID:5756811-1772748000-1772754900@clasijazz.com
SUMMARY:Jam Funk - Port of Spain
DESCRIPTION:Entrada Libre \nPort of Spain \n\nUna Jam Session increíble en ese entorno tan bonito del Port of Spain. Llena de Funk !
URL:https://clasijazz.com/evento/jam-funk-port-of-spain-5/2026-03-05/
LOCATION:Port Of Spain\, Parque Nicolás Salmeron 20\, Almería\, Almería\, 04002\, España
CATEGORIES:Programación
ATTACH;FMTTYPE=image/jpeg:https://clasijazz.com/wp-content/uploads/2025/08/jam_funky-2-3-3.jpg
END:VEVENT
BEGIN:VEVENT
DTSTART;TZID=Europe/Madrid:20260306T200000
DTEND;TZID=Europe/Madrid:20260306T211500
DTSTAMP:20260420T041407
CREATED:20260110T123553Z
LAST-MODIFIED:20260407T115211Z
UID:5761516-1772827200-1772831700@clasijazz.com
SUMMARY:Match de Impro
DESCRIPTION:3 € NS / GS \nSala Industrial \nMATCH DE IMPRO \nEsta temporada\, los alumnos de improvisación de la escuela Las Cruces Teatro / Clasijazz se enfrentarán una vez al mes en dos equipos por el favor del público creando historias delirantes improvisadas en el acto. No te las pierdas\, la participación del público es clave en este show.
URL:https://clasijazz.com/evento/match-de-impro-2/2026-03-06/
LOCATION:Sala Industrial Clasijazz\, Maestro Serrano 9\, Almería\, Almería\, 04004\, España
CATEGORIES:Programación
ATTACH;FMTTYPE=image/png:https://clasijazz.com/wp-content/uploads/2026/01/Match-Impro-generico.png
END:VEVENT
BEGIN:VEVENT
DTSTART;TZID=Europe/Madrid:20260306T200000
DTEND;TZID=Europe/Madrid:20260306T213000
DTSTAMP:20260420T041407
CREATED:20260128T071545Z
LAST-MODIFIED:20260206T154506Z
UID:5762046-1772827200-1772832600@clasijazz.com
SUMMARY:Pepe Céspedes y Alvarito
DESCRIPTION:12 € NS / 5 €. S \nSala Principal \nGran tarde-noche de humor en Clasijazz con dos grandes de la comedia \n  \n 
URL:https://clasijazz.com/evento/pepe-cespedes-y-alvarito/
LOCATION:Sede Clasijazz\, Maestro Serrano 9 \, Almería\, Almería\, 04004\, España
CATEGORIES:Programación
ATTACH;FMTTYPE=image/jpeg:https://clasijazz.com/wp-content/uploads/2026/01/WhatsApp-Image-2026-02-05-at-18.47.32.jpeg
GEO:36.83433;-2.4614249
X-APPLE-STRUCTURED-LOCATION;VALUE=URI;X-ADDRESS=Sede Clasijazz Maestro Serrano 9  Almería Almería 04004 España;X-APPLE-RADIUS=500;X-TITLE=Maestro Serrano 9:geo:-2.4614249,36.83433
END:VEVENT
BEGIN:VEVENT
DTSTART;TZID=Europe/Madrid:20260306T210000
DTEND;TZID=Europe/Madrid:20260306T223000
DTSTAMP:20260420T041407
CREATED:20260303T171750Z
LAST-MODIFIED:20260303T171750Z
UID:5763239-1772830800-1772836200@clasijazz.com
SUMMARY:Greetings Rock & Folk! - PORT OF SPAIN
DESCRIPTION:5€ ns / 2€ S | Port of Spain \nEntradas \n\nDisfruta con los almerienses «Greetings» de toda la energía y pasión de la música Rock y Folk. Una banda en directo que nos invita a cantar y bailar\, recorriendo las canciones populares de nuestros grupos favoritos\, compartiendo el pop-rock en castellano\, la música americana y el Folk irlandés. Desde nuestro único «Port Of Spain» al mundo!
URL:https://clasijazz.com/evento/greetings-rock-folk-port-of-spain/
LOCATION:Port Of Spain\, Parque Nicolás Salmeron 20\, Almería\, Almería\, 04002\, España
CATEGORIES:Programación
ATTACH;FMTTYPE=image/jpeg:https://clasijazz.com/wp-content/uploads/2026/03/WhatsApp-Image-2026-03-03-at-17.03.33.jpeg
END:VEVENT
BEGIN:VEVENT
DTSTART;TZID=Europe/Madrid:20260307T170000
DTEND;TZID=Europe/Madrid:20260307T183000
DTSTAMP:20260420T041407
CREATED:20260104T205728Z
LAST-MODIFIED:20260206T154431Z
UID:5761308-1772902800-1772908200@clasijazz.com
SUMMARY:Mujeres en Sororidad
DESCRIPTION:10 € NS / 3 € S \nSala Principal \nEl 7 de marzo nos reuniremos muchas mujeres artistas de Almería para celebrar nuestro día con poderío sororidad y con mucho arte. Un concierto muy especial con canciones de mujeres e igualdad. Celebra con nosotras el día de la mujer!
URL:https://clasijazz.com/evento/canciones-de-mujeres-e-igualdad-sara-soul-cia/
LOCATION:Sede Clasijazz\, Maestro Serrano 9 \, Almería\, Almería\, 04004\, España
CATEGORIES:Programación
ATTACH;FMTTYPE=image/jpeg:https://clasijazz.com/wp-content/uploads/2026/01/WhatsApp-Image-2026-01-04-at-18.54.50.jpeg
GEO:36.83433;-2.4614249
X-APPLE-STRUCTURED-LOCATION;VALUE=URI;X-ADDRESS=Sede Clasijazz Maestro Serrano 9  Almería Almería 04004 España;X-APPLE-RADIUS=500;X-TITLE=Maestro Serrano 9:geo:-2.4614249,36.83433
END:VEVENT
BEGIN:VEVENT
DTSTART;TZID=Europe/Madrid:20260307T180000
DTEND;TZID=Europe/Madrid:20260307T220000
DTSTAMP:20260420T041407
CREATED:20250824T081330Z
LAST-MODIFIED:20260128T202458Z
UID:5756824-1772906400-1772920800@clasijazz.com
SUMMARY:Dj Eli & David Rockin - Port of Spain
DESCRIPTION:Port of Spain \nEntrada Libre \nDj Eli & David Rockin\nEli y David se baten en un duelo de vinilos al más puro estilo rock’n’roll\, rithm & blues\, soul\, ska… No te lo puedes perder
URL:https://clasijazz.com/evento/dj-eli-david-rockin-port-of-spain-8/2026-03-07/
LOCATION:Port Of Spain\, Parque Nicolás Salmeron 20\, Almería\, Almería\, 04002\, España
CATEGORIES:Programación
ATTACH;FMTTYPE=image/jpeg:https://clasijazz.com/wp-content/uploads/2025/08/Gemini_Generated_Image_7452c57452c57452.jpg
END:VEVENT
BEGIN:VEVENT
DTSTART;TZID=Europe/Madrid:20260307T223000
DTEND;TZID=Europe/Madrid:20260307T235500
DTSTAMP:20260420T041407
CREATED:20260103T170602Z
LAST-MODIFIED:20260103T171123Z
UID:5761248-1772922600-1772927700@clasijazz.com
SUMMARY:La Juan Román Cumbia
DESCRIPTION:15 € NS / 7 € S \nSala Principal \nLa Juan Román Cumbia\, la banda del momento llega por primera vez a Almería para uno de los conciertos más esperados. Ven a pasar una noche de Cumbia\, Cuarteto y Rock’n’Roll en el Clasijazz. La cita será el próximo 7 de marzo a las 22:30. No te lo pierdas!
URL:https://clasijazz.com/evento/la-juan-roman-cumbia/
LOCATION:Sede Clasijazz\, Maestro Serrano 9 \, Almería\, Almería\, 04004\, España
CATEGORIES:Programación
ATTACH;FMTTYPE=image/jpeg:https://clasijazz.com/wp-content/uploads/2026/01/Juan-Roman-Almeria.jpg
GEO:36.83433;-2.4614249
X-APPLE-STRUCTURED-LOCATION;VALUE=URI;X-ADDRESS=Sede Clasijazz Maestro Serrano 9  Almería Almería 04004 España;X-APPLE-RADIUS=500;X-TITLE=Maestro Serrano 9:geo:-2.4614249,36.83433
END:VEVENT
BEGIN:VEVENT
DTSTART;TZID=Europe/Madrid:20260308T200000
DTEND;TZID=Europe/Madrid:20260308T213000
DTSTAMP:20260420T041407
CREATED:20260128T162449Z
LAST-MODIFIED:20260128T162449Z
UID:5762053-1773000000-1773005400@clasijazz.com
SUMMARY:ANDREA MOTIS GUITAR TRIO con Josep Traver y Jurandir da Silva (guitarras)
DESCRIPTION:40 € NS / 30 € S \nSala Principal \nImpresionante que vengan a Clasijazz !!! La gran Andrea Motis presentando el nuevo disco en Clasijazz con dos genios de la Guitarra. No os perdáis esta pasada de proyecto. Y qué mejor día para celebrar el día de la Mujer Trabajadora con este concierto extraordinario de una de las artistas españolas más reconocidas en el mundo. \nLa cantante y trompetista Andrea Motis presenta su nuevo disco\, Intimate\, publicado en febrero del 2026 por Elemental Records. Intimate es exactamente lo que su título sugiere: una conversación musical tranquila y cercana\, marcada por la sutileza\, la calidez y la honestidad emocional. En este álbum\, Motis revela su lado más delicado y refinado\, priorizando su voz mientras entrelaza líneas de trompeta discretas en un ambiente acústico íntimo acompañada por los guitarristas Jurandir dã Silva y Josep Traver. \nGrabado entre Barcelona\, ​​Río de Janeiro y Montoliu de Segarra\, y masterizado por Alex Wharton en los estudios Abbey Road de Londres\, el álbum camina a través de elegantes diálogos entre voz y guitarra\, con el violonchelo lírico de Jaques Morelenbaum en un par de piezas. El repertorio se mueve con fluidez entre idiomas y tradiciones\, incluyendo estándares de jazz\, canciones populares\, bossa nova y chanson francesa. El Andrea Motis Guitar Trio ofrece reinterpretaciones profundamente personales de obras de Amy Winehouse\, Chico Buarque\, Bill Withers\, Georges Brassens y Djavan\, junto con composiciones originales coescritas con Dã Silva. El resultado es una experiencia auditiva íntima y atemporal que resalta los matices\, la sobriedad y la profundidad emocional del repertorio. \n  \n \n 
URL:https://clasijazz.com/evento/andrea-motis-guitar-trio-con-josep-traver-y-jurandir-da-silva-guitarras/
LOCATION:Sede Clasijazz\, Maestro Serrano 9 \, Almería\, Almería\, 04004\, España
CATEGORIES:Programación
ATTACH;FMTTYPE=image/jpeg:https://clasijazz.com/wp-content/uploads/2026/01/6J9A0900-copia-scaled.jpg
GEO:36.83433;-2.4614249
X-APPLE-STRUCTURED-LOCATION;VALUE=URI;X-ADDRESS=Sede Clasijazz Maestro Serrano 9  Almería Almería 04004 España;X-APPLE-RADIUS=500;X-TITLE=Maestro Serrano 9:geo:-2.4614249,36.83433
END:VEVENT
END:VCALENDAR