
BEGIN:VCALENDAR
VERSION:2.0
PRODID:-//Clasijazz - ECPv6.11.0.1//NONSGML v1.0//EN
CALSCALE:GREGORIAN
METHOD:PUBLISH
X-ORIGINAL-URL:https://clasijazz.com
X-WR-CALDESC:Eventos para Clasijazz
REFRESH-INTERVAL;VALUE=DURATION:PT1H
X-Robots-Tag:noindex
X-PUBLISHED-TTL:PT1H
BEGIN:VTIMEZONE
TZID:Europe/Madrid
BEGIN:DAYLIGHT
TZOFFSETFROM:+0100
TZOFFSETTO:+0200
TZNAME:CEST
DTSTART:20260329T010000
END:DAYLIGHT
BEGIN:STANDARD
TZOFFSETFROM:+0200
TZOFFSETTO:+0100
TZNAME:CET
DTSTART:20261025T010000
END:STANDARD
END:VTIMEZONE
BEGIN:VEVENT
DTSTART;TZID=Europe/Madrid:20260414T220000
DTEND;TZID=Europe/Madrid:20260414T233000
DTSTAMP:20260420T022831
CREATED:20260122T224453Z
LAST-MODIFIED:20260122T224453Z
UID:5762003-1776204000-1776209400@clasijazz.com
SUMMARY:Peter Zak trio
DESCRIPTION:20 € NS / 10 € S\nSala Principal \nUno de los pianistas más sorprendentes de Nueva York viene por primera vez a Clasijazz. No os lo perdáis. \nUn martes que viajamos a NY \n  \nPeter Zak trio \n\nPeter Zak piano \nIgnasi González contrabajo\nRoger Gutiérrez batería\n\n\nPETER ZAK\nBIOGRAFÍA\nLa grabación más reciente de Peter\, “One Mind”\, es algo así como una partida\npara él. La estrecha colaboración con el bajista Marcos Varela\, define un cuarteto\nque también incluye a Billy Drummond en la batería y al aclamado saxofonista\nSeamus Blake. El álbum presenta varias composiciones y arreglos nuevos\, y\nexplora algunos caminos musicales sorprendentes.\nEl bien recibido lanzamiento anterior de Peter\, “Standards”\, sigue siendo un\nejemplo culminante de sus progresos como pianista de jazz y director de\norquesta. Una sesión de trío que cuenta con su habitual colaborador\, el baterista\nBilly Drummond\, y un nuevo compañero de banda\, el bajista Jay Anderson. La\ngrabación demuestra la fluidez\, el conocimiento y el dominio que ha desarrollado\ndurante más de veinte años de actuaciones y grabaciones con algunos de los\nmejores músicos de jazz del mundo.\nPeter Zak nació el 13 de mayo de 1965 en Los Ángeles y creció en Columbus y\nKent\, Ohio. Cuando tenía cinco años\, su madre le enseñó los conceptos básicos de\ninterpretación del piano y de la lectura musical. Después de seis meses\, comenzó\nunas clases privadas que se prolongaron durante una década\, incluido un período\ncon la pianista de concierto de renombre internacional Margaret Baxtresser.\nDespués de que la familia se mudó a Oakland cuando Zak tenía 16 años\,\ndesarrolló un interés por el jazz cuando el director de la banda de su escuela\nsecundaria le mostró cómo tocar los cambios de acordes de “Stella by Starlight”.\nLos estudios con Susan Muscarella\, ahora presidenta del Conservatorio de Jazz de\nCalifornia\, siguieron en UC Berkeley\, donde también actuó con los UC Jazz\nEnsembles y obtuvo una licenciatura en historia. Pronto estaría dando conciertos\npor el norte de California con el saxofonista John Handy\, entre otros.\nDesde que se mudó a Nueva York\, ha actuado y / o grabado con Eddie Henderson\,\nJunior Cook\, George Coleman\, Jimmy Cobb\, Billy Hart\, Ryan Kisor\, Etta Jones\,\nScott Hamilton\, Peter Bernstein\, Al Foster\, Eric Alexander\, Curtis Stigers\, Walt\nWeiskopf y Jon Hendricks\, entre muchos otros. Peter también es miembro de la\nfacultad en el renombrado programa de jazz en New School University.\nEn 2005\, Peter recibió una prestigiosa subvención de $ 10\,000 de la Fundación\nDoris Duke y Chamber Music America\, para componer e interpretar un nuevo\ntrabajo para su trío de jazz\, con Al Foster y Paul Gill. La primera de las dos\nactuaciones de esta suite de tres partes\, tuvo lugar en el “Smoke Jazz Club”\, y la\nsegunda en la “Jazz Gallery”\, ambas en la ciudad de Nueva York.\nDesde 2005\, Peter ha lanzado una serie de grabaciones aclamadas por la crítica\npara el sello de jazz danés\, “SteepleChase Records”. Su primer lanzamiento para la\ncompañía\, “The Peter Zak Trio”\, con el baterista Al Foster y el bajista Paul Gill\,\napareció ese año. Los lanzamientos posteriores incluyen “For Tomorrow”\, con\nPaul Gill y el baterista Willie Jones III\, en 2006; un álbum para piano solo\, “My \nConception”\, en 2007; “Seed Of Sin”\, con Paul Gill y el baterista Quincy Davis\, en\n2008; “Blues on the Corner: The Music of McCoy Tyner”\, de nuevo con Paul Gill y\nQuincy Davis\, en 2009; y “The Decider”\, un álbum de cuarteto que incluye a Walt\nWeiskopf al saxofón\, Ugonna Okegwo al contrabajo y el baterista Billy\nDrummond.\n“Down East”\, una cita de trío con Peter Washington y Billy Drummond\, apareció\nen la primavera de 2011. Entre la prensa nacional e internacional\, sobre este\ntrabajo se encontraba un entusiasta artículo en la edición de septiembre de 2011\nde la revista “DownBeat”. A este lanzamiento le siguieron “Nordic Noon”\, en\n2012\, “The Eternal Triangle”\, en 2013\, y “The Disciple” en 2014\, que alcanzó el\nnúmero 2 en la lista de radio “Jazz Week”.\nPeter sigue bastante ocupado como sideman de grabación también. Sus docenas\nde créditos incluyen los recientes álbumes de Walt Weiskopf\, Mike Richmond\,\nDoug Webb\, Stephen Riley y Tom Guarna\, entre muchos otros.\nPeter dirige sus propios grupos en varios lugares en y alrededor de Nueva York\,\ncomo Smalls\, Mezzrow\, The Kitano y Smoke\, así como destacadas apariciones\nnacionales e internacionales\, incluidas las recientes actuaciones en el Festival de\nJazz de Copenhague\, el festival de jazz de Zacatecas en México y una gira por\nCanadá como colíder con el saxofonista Walt Weiskopf. Al mismo tiempo\, ha\nestado actuando regularmente como acompañante con una gran cantidad de\notros artistas\, incluidos Eddie Henderson\, Jim Snidero\, Peter Bernstein\, Ryan\nKisor\, Jimmy Cobb\, Walt Weiskopf\, Carlos Abadie\, Doug Webb y muchos otros\,\ntanto en los Estados Unidos como a nivel internacional. En 2011\, Peter actuó con\nla Filarmónica de Brooklyn como solista destacado en “I Got Rhythm Variations”\nde Gershwin. \nhttps://www.peterzakmusic.com
URL:https://clasijazz.com/evento/peter-zak-trio/
LOCATION:Sede Clasijazz\, Maestro Serrano 9 \, Almería\, Almería\, 04004\, España
CATEGORIES:Programación
ATTACH;FMTTYPE=image/jpeg:https://clasijazz.com/wp-content/uploads/2026/01/Peter-Zak-2-scaled.jpg
GEO:36.83433;-2.4614249
X-APPLE-STRUCTURED-LOCATION;VALUE=URI;X-ADDRESS=Sede Clasijazz Maestro Serrano 9  Almería Almería 04004 España;X-APPLE-RADIUS=500;X-TITLE=Maestro Serrano 9:geo:-2.4614249,36.83433
END:VEVENT
BEGIN:VEVENT
DTSTART;TZID=Europe/Madrid:20260415T220000
DTEND;TZID=Europe/Madrid:20260415T233000
DTSTAMP:20260420T022831
CREATED:20250903T173754Z
LAST-MODIFIED:20260328T191153Z
UID:5757060-1776290400-1776295800@clasijazz.com
SUMMARY:Jam Session
DESCRIPTION:3 € No Soci@ / gratuito Soci@ \nSala Principal \nCada miércoles puedes disfrutar de una Jam Session. Uno de los eventos más seguidos en Almería y por el que han pasado muchísimos músicos y público. ¡Disfruta de esta maravilla de Jam Session!
URL:https://clasijazz.com/evento/jam-session-4/2026-04-15/
LOCATION:Sede Clasijazz\, Maestro Serrano 9 \, Almería\, Almería\, 04004\, España
CATEGORIES:Programación
ATTACH;FMTTYPE=image/jpeg:https://clasijazz.com/wp-content/uploads/2025/09/PANA5800-scaled.jpg
GEO:36.83433;-2.4614249
X-APPLE-STRUCTURED-LOCATION;VALUE=URI;X-ADDRESS=Sede Clasijazz Maestro Serrano 9  Almería Almería 04004 España;X-APPLE-RADIUS=500;X-TITLE=Maestro Serrano 9:geo:-2.4614249,36.83433
END:VEVENT
BEGIN:VEVENT
DTSTART;TZID=Europe/Madrid:20260416T190000
DTEND;TZID=Europe/Madrid:20260416T203000
DTSTAMP:20260420T022831
CREATED:20260402T173939Z
LAST-MODIFIED:20260402T173939Z
UID:5765006-1776366000-1776371400@clasijazz.com
SUMMARY:Concierto de Leonardo García - EL MOLINO Clasijazz Rural
DESCRIPTION:10€ NS  / 7 € S \nEL MOLINO Clasijazz Rural (Terque) \n  \nConcierto de Leonardo García_Cantautor de la Trovuntivitis de Santa Clara\, Cuba \n  \nUno de los lores que regentan el territorio de la trova reciente es Leo García. Integra La Trovuntivitis\, grupo de cantautores y cantautoras que desde hace una veintena de años defienden a la capital de la provincia como plaza segura para esa manera de interpretar al país. \nÉl es cantante e instrumentista notable con estudios de guitarra clásica\, e inspirado compositor. Como trovador\, todas esas dimensiones se imbrican en el acto creativo para construir piezas de imaginativas líneas melódicas y estimulantes letras\, defendidas por su autor en el escenario con ejemplar dedicación. \n \n  \nConcierto imperdible. \n 
URL:https://clasijazz.com/evento/concierto-de-leonardo-garcia-el-molino-clasijazz-rural/
LOCATION:El Molino – Clasijazz rural\, X9MW+8V\, Terque\, 04569\, España
CATEGORIES:Programación
ATTACH;FMTTYPE=image/jpeg:https://clasijazz.com/wp-content/uploads/2026/04/leonardo-garcia-tregua-yuzin-1.jpg
END:VEVENT
BEGIN:VEVENT
DTSTART;TZID=Europe/Madrid:20260416T210000
DTEND;TZID=Europe/Madrid:20260416T223000
DTSTAMP:20260420T022831
CREATED:20250908T124908Z
LAST-MODIFIED:20260316T184118Z
UID:5757228-1776373200-1776378600@clasijazz.com
SUMMARY:Soy otra persona\, tal vez más feliz que yo: cuentistas vivas y muertas
DESCRIPTION:Sala Principal \nEntrada Libre \n\nEn el nuevo ciclo de Clásicos en clasijazz he elegido a una serie de autoras americanas cuyas obras recorren el siglo XX y los años transcurridos del XXI. Desde Silvina Ocampo hasta Samanta Schweblin escucharemos las voces poderosas de estas escritoras a través de uno de los géneros más emblemáticos de América: el cuento. Así pues\, y sin olvidar la música tan esencial en cada una de nuestras sesiones\, viajaremos\, a través de sus relatos oníricos\, misteriosos\, únicos siempre\, a México\, Ecuador\, Brasil\, Uruguay y Argentina.  \n  \nOctubre\, 30 : Silvina Ocampo\, 1903-1993. Argentina\nNoviembre\, 27: Elena Garro\, 1916-1998\, México\nDiciembre\, 18: Clarice Lispector\, 1920-1977\, Brasil\nEnero\, 22: Rosario Castellanos\, 1925-1974\, México\nFebrero\, 26: Cristina Peri Rossi\, 1941\, Uruguay\nMarzo\, 19: Mariana Enriquez\, 1973\, Argentina\nAbril\, 16: María Fernanda Ampuero\, 1976\, Ecuador\nMayo\, 14: Fernanda Trías\, 1976\, Uruguay\nJunio\, 11: Samanta Schweblin\, 1978\, Argentina
URL:https://clasijazz.com/evento/soy-otra-persona-tal-vez-mas-feliz-que-yo-cuentistas-vivas-y-muertas/2026-04-16/
LOCATION:Sede Clasijazz\, Maestro Serrano 9 \, Almería\, Almería\, 04004\, España
CATEGORIES:Programación
ATTACH;FMTTYPE=image/jpeg:https://clasijazz.com/wp-content/uploads/2025/09/WhatsApp-Image-2025-10-03-at-20.11.17.jpeg
GEO:36.83433;-2.4614249
X-APPLE-STRUCTURED-LOCATION;VALUE=URI;X-ADDRESS=Sede Clasijazz Maestro Serrano 9  Almería Almería 04004 España;X-APPLE-RADIUS=500;X-TITLE=Maestro Serrano 9:geo:-2.4614249,36.83433
END:VEVENT
BEGIN:VEVENT
DTSTART;TZID=Europe/Madrid:20260416T210000
DTEND;TZID=Europe/Madrid:20260416T230000
DTSTAMP:20260420T022831
CREATED:20250929T114658Z
LAST-MODIFIED:20260401T173317Z
UID:5763402-1776373200-1776380400@clasijazz.com
SUMMARY:Intercambio de Idiomas
DESCRIPTION:Sala Industrial Clasijazz \nEntrada Libre \n\n¿Quieres conocer gente nueva y compartir ideas\, experiencias y opiniones mientras practicas tus habilidades lingüísticas? \n¡Hablaremos de todo: culturas\, profesiones\, arte y música! \n¿Nivel avanzado? ¿Intermedio? ¿Principiante? ¡Hay espacio para todos! \nÚnete a la comunidad del Intercambio de Idiomas y deja que la magia deja que la magia de los idiomas te atrape. \nDesde Octubre y todos los jueves 21:00-23:00
URL:https://clasijazz.com/evento/intercambio-de-idiomas-5/2026-04-16/
LOCATION:Clasijazz\, C/Maestro Serrano nº9\, Almería\, 04004
CATEGORIES:Programación
ATTACH;FMTTYPE=image/jpeg:https://clasijazz.com/wp-content/uploads/2025/09/Intercambio-de-Idiomas.jpg
GEO:36.8366538;-2.4610327
X-APPLE-STRUCTURED-LOCATION;VALUE=URI;X-ADDRESS=Clasijazz C/Maestro Serrano nº9 Almería 04004;X-APPLE-RADIUS=500;X-TITLE=C/Maestro Serrano nº9:geo:-2.4610327,36.8366538
END:VEVENT
BEGIN:VEVENT
DTSTART;TZID=Europe/Madrid:20260416T220000
DTEND;TZID=Europe/Madrid:20260416T235500
DTSTAMP:20260420T022831
CREATED:20250823T171334Z
LAST-MODIFIED:20250823T171334Z
UID:5764308-1776376800-1776383700@clasijazz.com
SUMMARY:Jam Funk - Port of Spain
DESCRIPTION:Entrada Libre \nPort of Spain \n\nUna Jam Session increíble en ese entorno tan bonito del Port of Spain. Llena de Funk !
URL:https://clasijazz.com/evento/jam-funk-port-of-spain-5/2026-04-16/
LOCATION:Port Of Spain\, Parque Nicolás Salmeron 20\, Almería\, Almería\, 04002\, España
CATEGORIES:Programación
ATTACH;FMTTYPE=image/jpeg:https://clasijazz.com/wp-content/uploads/2025/08/jam_funky-2-3-3.jpg
END:VEVENT
BEGIN:VEVENT
DTSTART;TZID=Europe/Madrid:20260417T200000
DTEND;TZID=Europe/Madrid:20260417T213000
DTSTAMP:20260420T022831
CREATED:20260310T112921Z
LAST-MODIFIED:20260405T132743Z
UID:5763717-1776456000-1776461400@clasijazz.com
SUMMARY:Alvarito y el Gran Manley
DESCRIPTION:12 € NS / 5 € S \nSala Principal \nAlvarito y el Gran Manley regresan al Clasijazz para volver a llenar la sala de carcajadas con sus hilarantes sketches y monólogos. Si la última vez te lo perdiste… Esta es tu ocasión!
URL:https://clasijazz.com/evento/alvarito-manley/
LOCATION:Sede Clasijazz\, Maestro Serrano 9 \, Almería\, Almería\, 04004\, España
CATEGORIES:Programación
ATTACH;FMTTYPE=image/jpeg:https://clasijazz.com/wp-content/uploads/2026/03/8a9f6c71-5ea3-4900-a4d0-34f73ee81609.jpg
GEO:36.83433;-2.4614249
X-APPLE-STRUCTURED-LOCATION;VALUE=URI;X-ADDRESS=Sede Clasijazz Maestro Serrano 9  Almería Almería 04004 España;X-APPLE-RADIUS=500;X-TITLE=Maestro Serrano 9:geo:-2.4614249,36.83433
END:VEVENT
BEGIN:VEVENT
DTSTART;TZID=Europe/Madrid:20260417T210000
DTEND;TZID=Europe/Madrid:20260417T233000
DTSTAMP:20260420T022831
CREATED:20260308T170456Z
LAST-MODIFIED:20260414T165422Z
UID:5763663-1776459600-1776468600@clasijazz.com
SUMMARY:Greeting Folk & Rock - Port of Spain
DESCRIPTION:5 € NS / 2 € S\nPort of Spain \nEntradas \nDisfruta con los almerienses «Greetings» de toda la energía y pasión de la música Rock y Folk. Una banda en directo que nos invita a cantar y bailar\, recorriendo las canciones populares de nuestros grupos favoritos\, compartiendo el pop-rock en castellano\, la música americana y el Folk irlandés. Desde nuestro único «Port Of Spain» al mundo!
URL:https://clasijazz.com/evento/greeting-folk-rock-port-of-spain/
LOCATION:Port Of Spain\, Parque Nicolás Salmeron 20\, Almería\, Almería\, 04002\, España
CATEGORIES:Programación
ATTACH;FMTTYPE=image/jpeg:https://clasijazz.com/wp-content/uploads/2026/03/WhatsApp-Image-2026-03-08-at-17.57.08.jpeg
END:VEVENT
BEGIN:VEVENT
DTSTART;TZID=Europe/Madrid:20260418T103000
DTEND;TZID=Europe/Madrid:20260418T140000
DTSTAMP:20260420T022831
CREATED:20260402T175211Z
LAST-MODIFIED:20260407T112047Z
UID:5765013-1776508200-1776520800@clasijazz.com
SUMMARY:Cienciajazz Rural: "Del pupitre al museo: un viaje por los cuadernos escolares de La Alpujarra" - EL MOLINO Clasijazz Rural
DESCRIPTION:EL MOLINO Clasijazz Rural y Museo de la escritura popular \nEntrada libre \n  \nCienciajazz Rural \n«Del pupitre al museo: un viaje por los cuadernos escolares de la Alpujarra» \nLa pedagogía\, como disciplina científica\, y su historia\, se apoyan hoy en nuevas fuentes como son los dibujos infantiles\, cuadernos\, fotografías y otros objetos de la cultura material escolar. Esta charla estará centrada en un proyecto sobre la Historia de la Educación\, a través de los cuadernos escolares que se conservan en el Museo Etnográfico de Terque. La idea de trabajar sobre estos cuadernos surgió del XXII Coloquio de Historia de la Educación\, y de la Exposición sobre patrimonio histórico educativo de Almería\, que tuvieron lugar en esta ciudad en el año 2024. \nPrograma: \n*10:30h: Visita al Museo de la escritura popular de Terque\, dirigida por Alejandro Buendía (director de los Museos de Terque) \n*11:30h: Charla (Molino de Terque)\, con Christian Roith (UAL). Se compartirán los objetivos que se pretenden alcanzar con este proyecto\, que son: catalogar\, digitalizar e identificar los cuadernos de la Alpujarra almeriense entre 1875 y 1975\, y también analizar su contenido religioso\, moral y social. Se trata de una charla para todos\, indispensable para comprender cómo la escuela del pasado nos puede ayudar a interpretar los desafíos educativos que tenemos en el presente. \n*13:00h: Concierto (Molino de Terque): Atrezzo_Grace Annis (voz\, guitarra\, batería)\, León (voz\, batería y guitarra)\, Pablo Aranda (saxos soprano y tenor ) \n  \n \n 
URL:https://clasijazz.com/evento/cienciajazz-rural-un-viaje-por-los-cuadernos-escolares-de-la-alpujarra-dr-christian-roith-el-molino-clasijazz-rural/
LOCATION:El Molino – Clasijazz rural\, X9MW+8V\, Terque\, 04569\, España
CATEGORIES:Programación
ATTACH;FMTTYPE=image/jpeg:https://clasijazz.com/wp-content/uploads/2026/04/WhatsApp-Image-2026-04-07-at-09.19.21.jpeg
END:VEVENT
BEGIN:VEVENT
DTSTART;TZID=Europe/Madrid:20260418T140000
DTEND;TZID=Europe/Madrid:20260418T180000
DTSTAMP:20260420T022831
CREATED:20260322T125853Z
LAST-MODIFIED:20260322T224710Z
UID:5764455-1776520800-1776535200@clasijazz.com
SUMMARY:Fiesta de la tapa vegana
DESCRIPTION:Fiesta de la Tapa Vegana en Clasijazz  \nEn esta nueva cita del ciclo “Plant Based\, baby” el buen ambiente\, la cocina vegetal y la música se mezclarán sin prejuicios y con mucho sabor. \nEl próximo 18 de abril\, nuestro equipo de cocina\, junto a Yolanda Granados (presidenta de la Asociación de Veganos de Almería)\, nos sorprenderán con una magnífica selección de exquisitas tapas* caseras\, creativas y llenas de amor\, creadas exclusivamente para nuestro disfrute.\nY después llegará la música.\nEl dúo “Raíces Cruzadas” pondrá la banda sonora a la tarde con versiones de grandes éxitos del pop. Un concierto cercano que invitará a cantar y dejarse llevar. \nClasijazz es encuentro\, cultura y cercanía. Y este evento será justo eso: una excusa perfecta para venir con amigos\, conocer gente\, descubrir nuevos sabores y disfrutar de una experiencia diferente. \nEntrada libre. Sin reservas. Solo tienes que venir. \n*Más de 10 tapas diferentes\, tanto de cortesía con la bebida\, como especiales con pago extra. Habrá también tapas dulces.
URL:https://clasijazz.com/evento/fiesta-de-la-tapa-vegana/
LOCATION:Sede Clasijazz\, Maestro Serrano 9 \, Almería\, Almería\, 04004\, España
CATEGORIES:Programación
ATTACH;FMTTYPE=image/jpeg:https://clasijazz.com/wp-content/uploads/2026/03/WhatsApp-Image-2026-03-22-at-13.26.08.jpeg
GEO:36.83433;-2.4614249
X-APPLE-STRUCTURED-LOCATION;VALUE=URI;X-ADDRESS=Sede Clasijazz Maestro Serrano 9  Almería Almería 04004 España;X-APPLE-RADIUS=500;X-TITLE=Maestro Serrano 9:geo:-2.4614249,36.83433
END:VEVENT
BEGIN:VEVENT
DTSTART;TZID=Europe/Madrid:20260418T220000
DTEND;TZID=Europe/Madrid:20260418T233000
DTSTAMP:20260420T022831
CREATED:20260107T190416Z
LAST-MODIFIED:20260107T190416Z
UID:5761388-1776549600-1776555000@clasijazz.com
SUMMARY:Dulze - Girando Por Salas. GPS - Port of Spain
DESCRIPTION:Port of Spain \n5 € NS / 2 € S \n«Dulze es una artista originaria de Cádiz que fusiona pop indie con raíces flamencas para crear un estilo propio\, moderno y versátil. En directo combina temas íntimos con otros llenos de energía\, ofreciendo un espectáculo cercano y vibrante. También aporta su toque personal a clásicos de Raffaella Carrà o Camela. \n\nUna propuesta fresca que promete sorprender.» \nEntradas: \nDulze – Girando Por Salas. GPS
URL:https://clasijazz.com/evento/dulze-girando-por-salas-gps-port-of-spain/
LOCATION:Port Of Spain\, Parque Nicolás Salmeron 20\, Almería\, Almería\, 04002\, España
CATEGORIES:Programación
ATTACH;FMTTYPE=image/jpeg:https://clasijazz.com/wp-content/uploads/2026/01/IMG_0666.jpeg
END:VEVENT
BEGIN:VEVENT
DTSTART;TZID=Europe/Madrid:20260418T220000
DTEND;TZID=Europe/Madrid:20260418T233000
DTSTAMP:20260420T022831
CREATED:20260315T161056Z
LAST-MODIFIED:20260315T161056Z
UID:5764213-1776549600-1776555000@clasijazz.com
SUMMARY:Versolera
DESCRIPTION:10€ NS / 5€ S | Sala Principal \n\n«Con Cabo y con verso»\nCóncavo y convexo es la misma realidad mirada con prismas diferentes.\nSi observamos una cara\, lo de dentro va hacia fuera. Si nos centramos en la otra\, lo de fuera invade el espacio interno y el entorno\, lo mires como lo mires\, no queda indiferente.\nComo el litoral\, el verso interno se nutre del mar y convierte la bahía en cabo para mostrar la interpretación del sonido del agua al mundo marino.\nNosotros\, «Versolera»\, os invitamos a nuestra orilla para que podáis situaros en esa línea delgada donde mirar ambas caras\, uniendo cabos con versos\, caminando con versos por el cabo.\nOs invitamos a una experiencia donde se mezclarán distintos lenguajes para llegar a uno solo: el vuestro. \nVersolera es un grupo multidisciplinar que cuenta historias a través de música y poesía\, combinando versiones de melodías conocidas con sus propias composiciones. Sus integrantes son Mamen Puertas (voz\, piano)\, Jesús Ayala (guitarra\, arreglos)\, Miguel Olivar (flauta\, arreglos).
URL:https://clasijazz.com/evento/versolera/
LOCATION:Sede Clasijazz\, Maestro Serrano 9 \, Almería\, Almería\, 04004\, España
CATEGORIES:Programación
ATTACH;FMTTYPE=image/jpeg:https://clasijazz.com/wp-content/uploads/2026/03/IMG-20260307-WA0092-Mamen-Puertas-Velarde.jpg
GEO:36.83433;-2.4614249
X-APPLE-STRUCTURED-LOCATION;VALUE=URI;X-ADDRESS=Sede Clasijazz Maestro Serrano 9  Almería Almería 04004 España;X-APPLE-RADIUS=500;X-TITLE=Maestro Serrano 9:geo:-2.4614249,36.83433
END:VEVENT
END:VCALENDAR